BEGIN:VCALENDAR
VERSION:2.0
PRODID:-//MKT. Asociación de Marketing de España - ECPv4.9.14//NONSGML v1.0//EN
CALSCALE:GREGORIAN
METHOD:PUBLISH
X-WR-CALNAME:MKT. Asociación de Marketing de España
X-ORIGINAL-URL:https://www.asociacionmkt.es
X-WR-CALDESC:Eventos para MKT. Asociación de Marketing de España
BEGIN:VTIMEZONE
TZID:Europe/Madrid
BEGIN:DAYLIGHT
TZOFFSETFROM:+0100
TZOFFSETTO:+0200
TZNAME:CEST
DTSTART:20190331T010000
END:DAYLIGHT
BEGIN:STANDARD
TZOFFSETFROM:+0200
TZOFFSETTO:+0100
TZNAME:CET
DTSTART:20191027T010000
END:STANDARD
END:VTIMEZONE
BEGIN:VEVENT
DTSTART;TZID=Europe/Madrid:20191127T180000
DTEND;TZID=Europe/Madrid:20191127T210000
DTSTAMP:20260423T232205
CREATED:20191030T105819Z
LAST-MODIFIED:20200120T145457Z
UID:27566-1574877600-1574888400@www.asociacionmkt.es
SUMMARY:LA TIENDA DEL FUTURO FASE II | BARCELONA
DESCRIPTION:En junio de 2018 dimos comienzo a un nuevo capítulo en MKT centrado en La tienda del futuro en el que se habló de los cambios a los que se enfrenta el punto de venta offline para convivir con el mundo online (nuevas formas de relacionarse con el consumidor\, nuevas formas de vender y comprar\, omnicalidad …). Pero este capítulo no ha terminado. El retail es un entorno que cambia cada día y la Asociación de Marketing de España va a seguir debatiendo sobre los cambios que se producen y cómo las marcas se adaptan y ofrecen las mejores experiencias a los consumidores.\nEl próximo día 27 de noviembre presentaremos en Barcelona la segunda fase de este foro\, en el que la Asociación de Marketing de España con la colaboración de MMA Spain\, la agencia Casanova y Mediapost\, seguirán con el foco puesto en el retail y se profundizará sobre las diferentes estrategias y tecnologías de proximidad con las que captar y generar tráfico en la tienda all-line.\nEsta primera jornada en Barcelona de la Fase II\, tendrá lugar en EADA Business School. \nAGENDA\n18:00 – 18:30 Registro y acreditación\n18:30 – 18:35 Bienvenida por parte de EADA – Pau Roig. Director Área de Corporate\n18:35 – 18:40 Intervención de la agencia Casanova – Jose Casanova. Presidente en agencia Casanova\n18:40 – 18:45 Intervención de MKT – Víctor Conde. Director general de MKT\n18: 45 – 19:20 La proximidad en la tienda del futuro – Marketing de proximidad a través del móvil  \n\nMario Torija. Director general en S4M y miembro de la junta directiva en MMA Spain. Marketing de proximidad a través del móvil\nNacho Rodríguez. Director técnico y responsable de Geomarketing en QUANTIC Solutions en Mediapost. El uso de la geolocalización en el punto de venta\nHarald Messemer. Managing Director Iberia en Enzime Advising Group/Miquel Gummà. CEO en Foot Analytics. Cómo medir la efectividad de las acciones dirigidas a provocar visitas a la tienda física\n\n19:20 – 20:00 Casos \n\nIsabel Martínez. Consejera en Cosentino. Retail como herramienta de prescripción en Cosentino City Centers\n\nDiego Moreno\, CDO en Perfumerías PRIMOR. El cliente omnicanal en el área digital \n\n\n20:00 – 20:30 Mesa debate/preguntas \n\nModerada por Elia Méndez\, directora general en MMA España\, con participación de los ponentes\n\n20:30 Cierre de jornada y vino de despedida.\nNo pierdas la oportunidad de escuchar y debatir sobre el tema con grandes expertos en la materia.  \n¡Te esperamos! \n> Consigue aquí tu entrada gratuita\n
URL:https://www.asociacionmkt.es/evento/la-tienda-del-futuro-fase-ii-barcelona/
LOCATION:EADA Business School\, Carrer d'Aragó\, 204\, Barcelona\, Barcelona\, 08011\, España
CATEGORIES:JORNADAS
ATTACH;FMTTYPE=image/jpeg:https://www.asociacionmkt.es/wp-content/uploads/2019/10/Evento-770x230_BCNA-2.jpg
END:VEVENT
END:VCALENDAR