BEGIN:VCALENDAR
VERSION:2.0
PRODID:-//MKT. Asociación de Marketing de España - ECPv4.9.14//NONSGML v1.0//EN
CALSCALE:GREGORIAN
METHOD:PUBLISH
X-WR-CALNAME:MKT. Asociación de Marketing de España
X-ORIGINAL-URL:https://www.asociacionmkt.es
X-WR-CALDESC:Eventos para MKT. Asociación de Marketing de España
BEGIN:VTIMEZONE
TZID:Europe/Madrid
BEGIN:DAYLIGHT
TZOFFSETFROM:+0100
TZOFFSETTO:+0200
TZNAME:CEST
DTSTART:20190331T010000
END:DAYLIGHT
BEGIN:STANDARD
TZOFFSETFROM:+0200
TZOFFSETTO:+0100
TZNAME:CET
DTSTART:20191027T010000
END:STANDARD
END:VTIMEZONE
BEGIN:VEVENT
DTSTART;TZID=Europe/Madrid:20191016T093000
DTEND;TZID=Europe/Madrid:20191016T123000
DTSTAMP:20260423T232207
CREATED:20190925T083001Z
LAST-MODIFIED:20200609T090639Z
UID:23623-1571218200-1571229000@www.asociacionmkt.es
SUMMARY:La tienda del futuro fase II | Madrid
DESCRIPTION:En junio de 2018 dimos comienzo a un nuevo capítulo en MKT centrado en La tienda del futuro en el que se habló de  los cambios a los que se enfrenta el punto de venta offline para convivir con el mundo online (nuevas formas de relacionarse con el consumidor\, nuevas formas de vender y comprar\, omnicalidad …). Pero este capítulo no ha terminado. El retail es un entorno que cambia cada día y la Asociación de Marketing va a seguir debatiendo sobre los cambios que se producen y cómo las marcas se adaptan y ofrecen las mejores experiencias a los consumidores. \nEl próximo 16 de octubre se dará comienzo en Madrid a la segunda fase de este foro\, en el que la Asociación de Marketing de España con la colaboración de MMA Spain y Mediapost\, seguirán con el foco puesto en el retail y se profundizará sobre las diferentes estrategias y tecnologías de proximidad con las que captar y generar tráfico en la tienda all-line. \nEsta primera jornada de la Fase II\, tendrá lugar en el Santander Work Café. \n  \nAGENDA \n(Inicio de la jornada 9:30. Acreditaciones de 9:00 a 9:30). \n09:00 – 09:30 Registro y acreditación \n09:30 – 09:35 Intervención del anfitrión \n09:35 – 09:40 Intervención de MKT \n09:40 – 10:10 LA PROXIMIDAD EN LA TIENDA DEL FUTURO \n\nJuan Carlos Alcaide.Consultor experto en experiencia y gestión rentable de clientes. Consejero de la Asociación de Marketing de España. Visión general de la proximidad\nMario Torija. Director general en S4M y miembro de la junta directiva en MMA Spain. Marketing de proximidad a través del móvil\nNacho Rodríguez. Director técnico y responsable de Geomarketing en QUANTIC Solutions en Mediapost. El uso de la geolocalización en el punto de venta\n\n10:10 – 11:00 CASOS \n\nHarald Messemer. Managing Director Iberia en Enzime Advising Group./ Miquel Gumma CEO en Footanalytics Caso de éxito HYUNDAI.\nPaloma Amador. Directora de Santander Work Café. Caso de éxito.\nJesús Hernández. Subdirector del Centro Comercial de La Vaguada. Caso de éxito.\n\n11:00 – 12:00 Mesa debate/preguntas \n\nModerada por Juan Carlos Alcaide \, con participación de los ponentes y de Nuria Giménez\, digital Senior Manager en Coca-Cola.\n\n12: 00 – 12:15 Cierre de jornada \n12:15 Café/Networking \nNo pierdas la oportunidad de escuchar y debatir sobre el tema con grandes expertos en la materia. \n¡Te esperamos! \n> Consigue aquí tu entrada gratuita\n
URL:https://www.asociacionmkt.es/evento/la-tienda-del-futuro-fase-ii-madrid/
LOCATION:Madrid\, Madrid\, España
CATEGORIES:JORNADAS
ATTACH;FMTTYPE=image/jpeg:https://www.asociacionmkt.es/wp-content/uploads/2019/09/Evento-770x230.jpg
END:VEVENT
END:VCALENDAR