BEGIN:VCALENDAR
VERSION:2.0
PRODID:-//MKT. Asociación de Marketing de España - ECPv4.9.14//NONSGML v1.0//EN
CALSCALE:GREGORIAN
METHOD:PUBLISH
X-WR-CALNAME:MKT. Asociación de Marketing de España
X-ORIGINAL-URL:https://www.asociacionmkt.es
X-WR-CALDESC:Eventos para MKT. Asociación de Marketing de España
BEGIN:VTIMEZONE
TZID:Europe/Madrid
BEGIN:DAYLIGHT
TZOFFSETFROM:+0100
TZOFFSETTO:+0200
TZNAME:CEST
DTSTART:20260329T010000
END:DAYLIGHT
BEGIN:STANDARD
TZOFFSETFROM:+0200
TZOFFSETTO:+0100
TZNAME:CET
DTSTART:20261025T010000
END:STANDARD
END:VTIMEZONE
BEGIN:VEVENT
DTSTART;TZID=Europe/Madrid:20260513T093000
DTEND;TZID=Europe/Madrid:20260513T120000
DTSTAMP:20260423T144034
CREATED:20260423T093847Z
LAST-MODIFIED:20260423T093847Z
UID:85502-1778664600-1778673600@www.asociacionmkt.es
SUMMARY:Madrid | Desayuno | El mapa del journey del nuevo consumidor
DESCRIPTION:CÓMO OPTIMIZAR TU INVERSIÓN EN UN ENTORNO DONDE LOS CLIENTES YA NO SIGUEN EL EMBUDO TRADICIONAL.\n¿Te has preguntado cómo están comprando hoy tus clientes? El embudo de ventas tradicional ha dejado de funcionar: ahora las decisiones se toman mientras hacen scroll\, consumen contenido o comparan en tiempo real. En este nuevo contexto\, adaptar la inversión ya no es una opción\, sino una necesidad para no perder oportunidades. \nLa Asociación de Marketing de España y t2ó ONE\, organizan un desayuno exclusivo para explorar las 4S (Streaming\, Scrolling\, Searching y Shopping) y entender cómo optimizar la inversión en este nuevo entorno. \nDurante la jornada abordaremos: \n\nEl cambio en el comportamiento del consumidor y su impacto en la inversión.\nCómo aplicar las 4S para maximizar resultados en cada punto de contacto.\nLas oportunidades para las marcas que se adaptan a este nuevo modelo de decisión.\n\nSerá un desayuno diseñado para conectar a líderes del marketing\, compartir visión estratégica y generar conversaciones de alto valor en un entorno cercano y dinámico. Una mañana ágil e inspiradora\, con la participación de expertos del sector y casos prácticos que ayudarán a entender cómo sacar el máximo partido a la inversión. \nEl encuentro tendrá lugar en Madrid\, en Meeting Place Castellana (Pº de la Castellana\, 81 – Planta baja\, 28046 Madrid). \nUna sesión pensada para intercambiar ideas con otros líderes del sector y\, de manera conjunta\, identificar las mejores soluciones para el negocio. \nEvento presencial exclusivo para socios de AMKT · Plazas limitadas: la asistencia se confirmará por orden de inscripción hasta completar aforo. \nSi quieres registrarte hazlo desde tu área de socios. \nÁREA DE SOCIOS\n  \nÚnete a la mayor comunidad de marketing\, con más de 1.300 profesionales y 200 empresas líderes\, descubre todas las ventajas y el tipo de membresía que mejor se adapta a tu perfil. \nSi quieres más información\, contacta con atencionalsocio@asociacionmkt.es \n
URL:https://www.asociacionmkt.es/evento/madrid-desayuno-el-mapa-del-journey-del-nuevo-consumidor/
LOCATION:Meeting Place Madrid\, Pº de la Castellana\, 81 - planta baja\, Madrid\, Madrid\, 28046\, España
CATEGORIES:ENCUENTROS
ATTACH;FMTTYPE=image/png:https://www.asociacionmkt.es/wp-content/uploads/2026/04/1100x400.png
GEO:40.4477389;-3.6919491
X-APPLE-STRUCTURED-LOCATION;VALUE=URI;X-ADDRESS=Meeting Place Madrid Pº de la Castellana 81 - planta baja Madrid Madrid 28046 España;X-APPLE-RADIUS=500;X-TITLE=Pº de la Castellana\, 81 - planta baja:geo:-3.6919491,40.4477389
END:VEVENT
END:VCALENDAR