BEGIN:VCALENDAR
VERSION:2.0
PRODID:-//MKT. Asociación de Marketing de España - ECPv4.9.14//NONSGML v1.0//EN
CALSCALE:GREGORIAN
METHOD:PUBLISH
X-WR-CALNAME:MKT. Asociación de Marketing de España
X-ORIGINAL-URL:https://www.asociacionmkt.es
X-WR-CALDESC:Eventos para MKT. Asociación de Marketing de España
BEGIN:VTIMEZONE
TZID:Europe/Madrid
BEGIN:DAYLIGHT
TZOFFSETFROM:+0100
TZOFFSETTO:+0200
TZNAME:CEST
DTSTART:20150329T010000
END:DAYLIGHT
BEGIN:STANDARD
TZOFFSETFROM:+0200
TZOFFSETTO:+0100
TZNAME:CET
DTSTART:20151025T010000
END:STANDARD
END:VTIMEZONE
BEGIN:VEVENT
DTSTART;TZID=Europe/Madrid:20151014T100000
DTEND;TZID=Europe/Madrid:20151014T120000
DTSTAMP:20260423T224756
CREATED:20151007T100113Z
LAST-MODIFIED:20200427T110251Z
UID:7917-1444816800-1444824000@www.asociacionmkt.es
SUMMARY:Master Class : Modelos de atribución. Impacto en el Online Marketing. Vías de Optimización
DESCRIPTION:IE Business School\, en colaboración con la Asociación de Marketing de España\, y de la mano de uno de sus socios corporativos\, Advise Consultores de Marketing y Publicidad\, organiza la Master Class: “Modelos de atribución. Impacto en el Online Marketing. Vías de Optimización”.\nEn esta Master Class se invita a descubrir cómo optimizar el ROI de las inversiones publicitarias online. Optimizar la inversión en los distintos canales es posible conociendo en profundidad el Customer Journey del cliente y detectando cuáles de esos canales influyen más positivamente en la toma de decisiones. Pero modelos de atribución hay muchos… y no todos son igual de eficientes.\nLa Master Class correrá a cargo de Dimitrios Haratsis\, (ADVISE CONSULTORES DE MARKETING Y PUBLICIDAD)\,\nexperto en la materia desde hace más de 12 años\, quien nos expondrá los diferentes modelos y sus puntos fuertes y débiles. Una visión completa y sencilla de los retos a los que nos enfrentamos los responsables de marketing a la hora de diseñar nuestro inventario digital y las decisiones en tiempo real que podemos ir tomando para optimizar al máximo nuestras inversiones y conseguir maximizar nuestro ROI.\nSi eres socio de MKT y quieres asistir\, por favor\, ponte en contacto con gerencia@asociacionmkt.es y te explicamos cómo puedes inscribirte. \n
URL:https://www.asociacionmkt.es/evento/master-class-modelos-atribucion-impacto-online-marketing/
LOCATION:IE Business School (sede c/ Serrano -Madrid-)\, C/ Serrano 99-101\, AULA S-301\, Madrid\, Madrid\, 28006\, España
CATEGORIES:FORMACION
GEO:40.4351996;-3.68134
X-APPLE-STRUCTURED-LOCATION;VALUE=URI;X-ADDRESS=IE Business School (sede c/ Serrano -Madrid-) C/ Serrano 99-101 AULA S-301 Madrid Madrid 28006 España;X-APPLE-RADIUS=500;X-TITLE=C/ Serrano 99-101\, AULA S-301:geo:-3.68134,40.4351996
END:VEVENT
END:VCALENDAR