BEGIN:VCALENDAR
VERSION:2.0
PRODID:-//MKT. Asociación de Marketing de España - ECPv4.9.14//NONSGML v1.0//EN
CALSCALE:GREGORIAN
METHOD:PUBLISH
X-WR-CALNAME:MKT. Asociación de Marketing de España
X-ORIGINAL-URL:https://www.asociacionmkt.es
X-WR-CALDESC:Eventos para MKT. Asociación de Marketing de España
BEGIN:VTIMEZONE
TZID:Europe/Madrid
BEGIN:DAYLIGHT
TZOFFSETFROM:+0100
TZOFFSETTO:+0200
TZNAME:CEST
DTSTART:20180325T010000
END:DAYLIGHT
BEGIN:STANDARD
TZOFFSETFROM:+0200
TZOFFSETTO:+0100
TZNAME:CET
DTSTART:20181028T010000
END:STANDARD
END:VTIMEZONE
BEGIN:VEVENT
DTSTART;TZID=Europe/Madrid:20181218T090000
DTEND;TZID=Europe/Madrid:20181218T120000
DTSTAMP:20260425T104023
CREATED:20181210T124509Z
LAST-MODIFIED:20181210T124509Z
UID:20131-1545123600-1545134400@www.asociacionmkt.es
SUMMARY:Meet the Expert: Elling Hamso. Midiendo la rentabilidad del Evento
DESCRIPTION:La presencia de un indicador de la efectividad del evento es una de las asignaturas pendientes a la que se enfrentan los profesionales del sector de los eventos. La metodología ROI y su aplicación en la planificación de eventos y reuniones\, tiene como objetivo diseñar eventos con un valor estratégico para obtener el mejor resultado posible\, alineado a los objetivos de negocio de la compañía. El próxima día 18 de diciembre\, Elling Hamso\, Managing Partner en Event ROI Institute\, nos aclarará todas las dudas que tengamos sobre este tema. \n*Ponencia en inglés.  \nEvento exclusivo para socios. Aforo limitado.   \n> Más información e inscripciones en el Área Privada\n
URL:https://www.asociacionmkt.es/evento/meet-the-expert-elling-hamso-midiendo-la-rentabilidad-del-evento/
LOCATION:Impact Hub Barceló\, Serrano Anguita\, 13\, Madrid\, 28004\, España
CATEGORIES:CONFERENCIAS
ATTACH;FMTTYPE=image/jpeg:https://www.asociacionmkt.es/wp-content/uploads/2018/12/meettheexpert.jpg
END:VEVENT
END:VCALENDAR