BEGIN:VCALENDAR
VERSION:2.0
PRODID:-//MKT. Asociación de Marketing de España - ECPv4.9.14//NONSGML v1.0//EN
CALSCALE:GREGORIAN
METHOD:PUBLISH
X-WR-CALNAME:MKT. Asociación de Marketing de España
X-ORIGINAL-URL:https://www.asociacionmkt.es
X-WR-CALDESC:Eventos para MKT. Asociación de Marketing de España
BEGIN:VTIMEZONE
TZID:Europe/Madrid
BEGIN:DAYLIGHT
TZOFFSETFROM:+0100
TZOFFSETTO:+0200
TZNAME:CEST
DTSTART:20200329T010000
END:DAYLIGHT
BEGIN:STANDARD
TZOFFSETFROM:+0200
TZOFFSETTO:+0100
TZNAME:CET
DTSTART:20201025T010000
END:STANDARD
END:VTIMEZONE
BEGIN:VEVENT
DTSTART;VALUE=DATE:20200205
DTEND;VALUE=DATE:20200206
DTSTAMP:20260423T211440
CREATED:20191220T122704Z
LAST-MODIFIED:20200116T094138Z
UID:27570-1580860800-1580947199@www.asociacionmkt.es
SUMMARY:MEETING & INCENTIVE SUMMIT (MIS) | EVENTOPLUS
DESCRIPTION:El grupo eventoPlus presenta el evento MIS (Meeting & Incentive Summit)\, diseñado para que conozcas todas las novedades y las empresas que te pueden ayudar a hacer que tus eventos sean efectivos y alcanzar tus objetivos.\nSe trata de un evento participativo en el que conectarás con otros profesionales de eventos\, marketing y comunicación\, unos 170 proveedores y destinos. Además podrás aprender a cómo organizar un evento extraordinario. \nEn el MIS y disfrutarás de un día de trabajo con ideas e inspiraciones\, contactos y ¡diversión! \n> Consulta aquí el programa completo del evento\n> Únete al evento a través de su programa de buyers.\n
URL:https://www.asociacionmkt.es/evento/mis-mkt/
LOCATION:IFEMA\,  Av. Partenón\, 5\, Madrid\, Madrid\, 28042\, España
CATEGORIES:JORNADAS
ATTACH;FMTTYPE=image/jpeg:https://www.asociacionmkt.es/wp-content/uploads/2019/12/MIS2020-evento-web.jpg
GEO:40.4642917;-3.6163927
X-APPLE-STRUCTURED-LOCATION;VALUE=URI;X-ADDRESS=IFEMA  Av. Partenón 5 Madrid Madrid 28042 España;X-APPLE-RADIUS=500;X-TITLE=Av. Partenón\, 5:geo:-3.6163927,40.4642917
END:VEVENT
END:VCALENDAR