BEGIN:VCALENDAR
VERSION:2.0
PRODID:-//MKT. Asociación de Marketing de España - ECPv4.9.14//NONSGML v1.0//EN
CALSCALE:GREGORIAN
METHOD:PUBLISH
X-WR-CALNAME:MKT. Asociación de Marketing de España
X-ORIGINAL-URL:https://www.asociacionmkt.es
X-WR-CALDESC:Eventos para MKT. Asociación de Marketing de España
BEGIN:VTIMEZONE
TZID:Europe/Madrid
BEGIN:DAYLIGHT
TZOFFSETFROM:+0100
TZOFFSETTO:+0200
TZNAME:CEST
DTSTART:20160327T010000
END:DAYLIGHT
BEGIN:STANDARD
TZOFFSETFROM:+0200
TZOFFSETTO:+0100
TZNAME:CET
DTSTART:20161030T010000
END:STANDARD
END:VTIMEZONE
BEGIN:VEVENT
DTSTART;TZID=Europe/Madrid:20160616T083000
DTEND;TZID=Europe/Madrid:20160616T140000
DTSTAMP:20260424T023409
CREATED:20160614T153201Z
LAST-MODIFIED:20160614T153201Z
UID:10780-1466065800-1466085600@www.asociacionmkt.es
SUMMARY:#MKTefa_Marketing para Entidades Financieras y Aseguradoras
DESCRIPTION:El 16 de junio 2016\, se celebra la 11º edición del Foro profesional de Marketing para entidades financieras y aseguradoras MKTEFA\, un evento liderado por Ditrendia y la Asociación de Marketing de España y que este año tendrá lugar en en el Auditorio de Reale Seguros en Madrid (C/ Príncipe de Vergara\, 125 Esq. C/ Felipe Campos)\nEn esta edición contaremos con la presencia de expertos en marketing de entidades como Reale Seguros\, tatum\, Blablacar\, Santander\, Universidad Carlos III de Madrid\, FNAC\, Bankinter\, Meetic\, Arboribus o Mytaxi para hablar de los temas que más preocupan al sector\, como el nuevo consumidor\, analítica\, crowdlending\, fintech\, marketing móvil o la influencia del Internet de las cosas.\nPuedes consultar la agenda completa aquí \n\n
URL:https://www.asociacionmkt.es/evento/mktefa_marketing-entidades-financieras-aseguradoras/
LOCATION:REALE SEGUROS\, C/ Principe de Vergara\, 125 \, Madrid\, Madrid\, España
ATTACH;FMTTYPE=image/jpeg:https://www.asociacionmkt.es/wp-content/uploads/2016/06/MKTEfa16Junio.jpg
GEO:40.4386538;-3.6790983
X-APPLE-STRUCTURED-LOCATION;VALUE=URI;X-ADDRESS=REALE SEGUROS C/ Principe de Vergara 125  Madrid Madrid España;X-APPLE-RADIUS=500;X-TITLE=C/ Principe de Vergara\, 125:geo:-3.6790983,40.4386538
END:VEVENT
END:VCALENDAR