BEGIN:VCALENDAR
VERSION:2.0
PRODID:-//MKT. Asociación de Marketing de España - ECPv4.9.14//NONSGML v1.0//EN
CALSCALE:GREGORIAN
METHOD:PUBLISH
X-WR-CALNAME:MKT. Asociación de Marketing de España
X-ORIGINAL-URL:https://www.asociacionmkt.es
X-WR-CALDESC:Eventos para MKT. Asociación de Marketing de España
BEGIN:VTIMEZONE
TZID:Europe/Madrid
BEGIN:DAYLIGHT
TZOFFSETFROM:+0100
TZOFFSETTO:+0200
TZNAME:CEST
DTSTART:20230326T010000
END:DAYLIGHT
BEGIN:STANDARD
TZOFFSETFROM:+0200
TZOFFSETTO:+0100
TZNAME:CET
DTSTART:20231029T010000
END:STANDARD
END:VTIMEZONE
BEGIN:VEVENT
DTSTART;TZID=Europe/Madrid:20231018T093000
DTEND;TZID=Europe/Madrid:20231018T133000
DTSTAMP:20260423T173720
CREATED:20230914T130836Z
LAST-MODIFIED:20231017T155413Z
UID:54725-1697621400-1697635800@www.asociacionmkt.es
SUMMARY:Jornada | Observatorio de Branding Barcelona 2023
DESCRIPTION:\n\n\n¡Únete a los grandes profesionales del sector en el Observatorio de Branding Barcelona 2023 el próximo 18 de octubre!\n  \n\nLas marcas siempre han sido parte de la sociedad. Debido al impacto tecnológico y social\, las formas de comprar\, de entretenernos\, de trabajar y de comunicarnos han cambiado radicalmente y\, en consecuencia\, también las fórmulas que las marcas necesitan aplicar para relacionarse con las personas. \nEn este nuevo contexto\, las marcas adoptan un rol más activo\, como parte integrante de comunidades con las cuales comparten valores e intereses\, inspirando\, empoderando\, entreteniendo y en definitiva\, aportando valor más allá de sus productos o servicios. \nPartiendo de estas premisas el Observatorio de Branding\, al evento por excelencia de los profesionales del branding y la comunicación\, regresa a Barcelona el próximo 18 de octubre. Y lo hace con ponentes y empresas de primer nivel que compartirán sus experiencias con nosotros respecto a esta nueva realidad. Todo ello desde la Torre Diagonal One\, a partir de las 9:30. \n  \n\n\nAGENDA \n09:30 – 10:00 | Acreditación asistentes y café \n\n\n\n10:00 – 10:05| Apertura\n\n\nVíctor Conde\, director general de AMKT\n\n\n\n\n 10:05 – 10:15 | Presentación\n\n\nConrad Llorens\, presidente de Summa\n\n\n\n10:15 -10:30 | Bienvenida del anfitrión \n\nVíctor Aguado\, gerente de Investigación y Posicionamiento de Marca de Telefónica\n\n10:30 – 11:10 | «Segmenta y vencerás. Cómo crecer a través de una estrategia dual que armoniza el corto y largo plazo» \n\nFederico Martínez\, Business Development Director de GfK España\n\n11:10 – 11:45 | Comunidades: el nuevo campo de juego de las marcas \n\nRafa Soto\, Head of Creative & Experience de Summa\n\n11:45 – 11:55 | Descanso \n11:55 – 12:50 | Mesa redonda \n\nMaría Díaz\, directora de Comunicación\, Marca y Relaciones Institucionales de Esade\nAnaïs Durand\, directora de Marketing y Comunicación de TOUS\nJordi Torrente\, responsable Global de Social Media y Metaverso de CUPRA\nModera: Tamara Pirojkova\, directora de Marketing del Foro de Marcas Renombradas Españolas\n\n\n\n\n\n12:50 – 13:25 | Diálogo \n\nVentura Barba\, CEO de Advanced Music\nEntrevista: Nuria Marcos. Directora general de Pons IP\n\n  \nSi te interesa indagar en el impacto que este escenario está teniendo en la gestión de marcas\, puedes inscribirte en el siguiente botón: \n\n  \nREGISTRO\n\n\n\n¡Contamos contigo!\n\n  \nCompártelo en tus RRSS: \n
URL:https://www.asociacionmkt.es/evento/observatorio-de-branding-barcelona-2023/
LOCATION:Torre Diagonal One\, Pl. dÉrnest Llunch i Martin\, Barcelona\, Barcelona\, 08019\, España
CATEGORIES:JORNADAS
ATTACH;FMTTYPE=image/png:https://www.asociacionmkt.es/wp-content/uploads/2023/09/WEB-825x353px.png
GEO:41.4125664;2.2113698
X-APPLE-STRUCTURED-LOCATION;VALUE=URI;X-ADDRESS=Torre Diagonal One Pl. dÉrnest Llunch i Martin Barcelona Barcelona 08019 España;X-APPLE-RADIUS=500;X-TITLE=Pl. dÉrnest Llunch i Martin:geo:2.2113698,41.4125664
END:VEVENT
END:VCALENDAR