BEGIN:VCALENDAR
VERSION:2.0
PRODID:-//MKT. Asociación de Marketing de España - ECPv4.9.14//NONSGML v1.0//EN
CALSCALE:GREGORIAN
METHOD:PUBLISH
X-WR-CALNAME:MKT. Asociación de Marketing de España
X-ORIGINAL-URL:https://www.asociacionmkt.es
X-WR-CALDESC:Eventos para MKT. Asociación de Marketing de España
BEGIN:VTIMEZONE
TZID:Europe/Madrid
BEGIN:DAYLIGHT
TZOFFSETFROM:+0100
TZOFFSETTO:+0200
TZNAME:CEST
DTSTART:20170326T010000
END:DAYLIGHT
BEGIN:STANDARD
TZOFFSETFROM:+0200
TZOFFSETTO:+0100
TZNAME:CET
DTSTART:20171029T010000
END:STANDARD
END:VTIMEZONE
BEGIN:VEVENT
DTSTART;TZID=Europe/Madrid:20171123T180000
DTEND;TZID=Europe/Madrid:20171123T200000
DTSTAMP:20260423T222847
CREATED:20171023T083836Z
LAST-MODIFIED:20171023T083836Z
UID:15146-1511460000-1511467200@www.asociacionmkt.es
SUMMARY:Ceremonia de entrega de los Premios Smarties 2017
DESCRIPTION:Los Premios Smarties\, creados por MMA para galardonar la creatividad en el ámbito del marketing móvil\, celebrarán su ceremonia de entrega el próximo día 23 de noviembre en Madrid. Con el presente objetivo de destacar la creatividad y la innovación desarrollados en el mundo de la movilidad\, reconocerán las mejores campañas activas entre junio del 2016 y junio del 2017 valorando aspectos como la estrategia\, la ejecución\, la creatividad y los resultados. \nNominados\nBloque de Marketing\nCategorías: Brand Awareness\, Lead Generation y Social Impact/Non for Profit\nMeliá Hotels International y Accenture Interactive\nTanqueray/Diageo y YDigital y Carat\nAXE/Unilever y Mindshare\nEduco y Havas Media Group\nScottex/Unilever y Mindshare \nBloque de Medios\nCategorías: Cross Mobile Integration\, Marketing within a Mobile Gaming Environment\, Mobile App y Mobile Social\nMagnum/Unilever y Mindshare\nUniversal Pictures y m/SIX y Gameloft Advertising Solutions\nAvianca y Accenture Interactive\nmytaxi\nBen&Jerry’s/Unilever y Mindshare \nBloque de Tecnología\nCategorías: Innovation\, Mobile Video e Internet of Things\nFOX y Mindshare\nTeads\nMovistar y Accenture Interactive\nMás información en mmaspain.com \n
URL:https://www.asociacionmkt.es/evento/premios-smarties-2017/
CATEGORIES:PREMIOS
ATTACH;FMTTYPE=image/jpeg:https://www.asociacionmkt.es/wp-content/uploads/2017/10/TheSmartiesAwardsSpain-770x230.jpg
ORGANIZER;CN="MMA":MAILTO:info@mmaspain.org
END:VEVENT
END:VCALENDAR