BEGIN:VCALENDAR
VERSION:2.0
PRODID:-//MKT. Asociación de Marketing de España - ECPv4.9.14//NONSGML v1.0//EN
CALSCALE:GREGORIAN
METHOD:PUBLISH
X-WR-CALNAME:MKT. Asociación de Marketing de España
X-ORIGINAL-URL:https://www.asociacionmkt.es
X-WR-CALDESC:Eventos para MKT. Asociación de Marketing de España
BEGIN:VTIMEZONE
TZID:Europe/Madrid
BEGIN:DAYLIGHT
TZOFFSETFROM:+0100
TZOFFSETTO:+0200
TZNAME:CEST
DTSTART:20240331T010000
END:DAYLIGHT
BEGIN:STANDARD
TZOFFSETFROM:+0200
TZOFFSETTO:+0100
TZNAME:CET
DTSTART:20241027T010000
END:STANDARD
END:VTIMEZONE
BEGIN:VEVENT
DTSTART;TZID=Europe/Madrid:20240125T093000
DTEND;TZID=Europe/Madrid:20240125T130000
DTSTAMP:20260425T033235
CREATED:20231128T133248Z
LAST-MODIFIED:20231221T163424Z
UID:55949-1706175000-1706187600@www.asociacionmkt.es
SUMMARY:Presentación | 16.ª edición del Barómetro de Patrocinio Deportivo
DESCRIPTION:El 25 de enero presentamos la 16.ª edición del Barómetro de Patrocinio Deportivo\, elaborado por SPSG Consulting. ¡Inscríbete!\n¿Cuáles son las últimas tendencias en patrocinio y Sports Business? ¿Aumentará la inversión de patrocinio en 2024? El próximo 25 de enero presentamos una nueva edición del Barómetro de Patrocinio Deportivo\, elaborado por SPSG Consulting (cuyo CEO es Carlos Cantó\, vocal de la Asociación y responsable de nuestro Comité de Marketing Deportivo). \nEl Barómetro de Patrocinio Deportivo llega a su 16.ª edición\, habiéndose convertido en el estudio de referencia del sector. El informe se divide en diferentes partes\, para abordar la actualidad del sector desde cuatro puntos de vista: \n\nEl punto de vista de las marcas patrocinadoras\n\n\nEl punto de vista de las properties patrocinadas\n\n\nEl punto de vista de la demanda/aficionados\n\n\nTendencias de Sports Business\n\nAdemás\, a lo largo de la jornada contaremos con los siguientes ponentes: \n\nTony Alquezar\, CEO de Sail GP Team Spain\, consejero del Córdoba CF\nFernando Corral\, secretario general de ASOBAL\nJudit Hidalgo\, directora de Andorra Business\nAlberto Jofre\, director general del Comité Paralímpico Español\nKike Levy\, Head of NJF Sports and Media\nJorge de la Vega\, adjunto a la Dirección General Ejecutiva de LaLiga\n\nUn año más\, celebraremos el encuentro en el Auditorio El Beatriz (Calle Ortega y Gasset\, 29\, Madrid)\, en horario de 9:30 a 13:00. \n  \nREGISTRO\n  \n¡Muy pronto todos los detalles! \n  \nCompártelo en tus RRSS #AMKTDeporte \n
URL:https://www.asociacionmkt.es/evento/presentacion-16-barometro-patrocinio-deportivo/
LOCATION:El Beatriz Madrid\, c/ Ortega y Gasset\, 29\, Madrid\, Madrid\, 28006\, España
CATEGORIES:JORNADAS
ATTACH;FMTTYPE=image/png:https://www.asociacionmkt.es/wp-content/uploads/2023/11/AMKT_BarómetroPatrocinioDeportivo2024_web-1.png
END:VEVENT
END:VCALENDAR