BEGIN:VCALENDAR
VERSION:2.0
PRODID:-//MKT. Asociación de Marketing de España - ECPv4.9.14//NONSGML v1.0//EN
CALSCALE:GREGORIAN
METHOD:PUBLISH
X-WR-CALNAME:MKT. Asociación de Marketing de España
X-ORIGINAL-URL:https://www.asociacionmkt.es
X-WR-CALDESC:Eventos para MKT. Asociación de Marketing de España
BEGIN:VTIMEZONE
TZID:Europe/Madrid
BEGIN:DAYLIGHT
TZOFFSETFROM:+0100
TZOFFSETTO:+0200
TZNAME:CEST
DTSTART:20250330T010000
END:DAYLIGHT
BEGIN:STANDARD
TZOFFSETFROM:+0200
TZOFFSETTO:+0100
TZNAME:CET
DTSTART:20251026T010000
END:STANDARD
END:VTIMEZONE
BEGIN:VEVENT
DTSTART;TZID=Europe/Madrid:20251210T093000
DTEND;TZID=Europe/Madrid:20251210T120000
DTSTAMP:20260423T232008
CREATED:20251117T100306Z
LAST-MODIFIED:20251205T080323Z
UID:77991-1765359000-1765368000@www.asociacionmkt.es
SUMMARY:Presentación | B2B Marketing Hot Trends 2025
DESCRIPTION:El próximo 10 de diciembre\, nuestro Comité de Marketing B2B presenta los resultados del estudio B2B Marketing Hot Trends 2025 en un evento exclusivo para Socios AMKT. ¡Apúntate!\n¿Cuáles serán las claves del marketing B2B para los próximos meses? \nMuy pronto presentaremos la quinta edición del B2B Marketing Hot Trends 2025\, en un evento exclusivo para nuestros Socios AMKT. Este informe\, elaborado desde nuestro Comité de Marketing B2B por nuestro socio empresa colaborador Garlic B2B con nuestra participación\, recoge las principales tendencias del sector para los próximos meses: dónde pondrán el foco los responsables de marketing y en qué áreas invertirán sus presupuestos las organizaciones del entorno B2B. \nEn esta edición analizaremos la evolución del funnel de ventas y las fases en las que los CMO están concentrando sus esfuerzos\, además de evaluar cómo han progresado las tendencias más relevantes del Marketing B2B en los últimos años. \nAdemás\, impartiremos una ponencia centrada en la importancia del GEO (Generative Engine Optimization) y el AEO (Answer Engine Optimization) aplicados al Marketing B2B\, un enfoque especialmente novedoso\, ya que la mayor parte de la información disponible sobre estos ámbitos se orienta al Marketing B2C. \nDurante la sesión explicaremos cómo trabajar el AEO para optimizar el contenido y convertirlo en la respuesta directa que ofrecen asistentes de IA como ChatGPT. También abordaremos cómo potenciar el GEO con el fin de mejorar la visibilidad de las marcas en respuestas generadas de forma conversacional y en consultas más complejas. \n  \nAGENDA \n9:30 – 10:00 | Acreditación\n10:00 – 10:10 | Bienvenida\n10:10 – 10:40 | Presentación: B2B Marketing Hot Trends 2025\n10:40 – 11:20 | Ponencia: el GEO en B2B\n11:20 – 11:30 | Q&A\n11:30 – 12:00 | Coctail y networking \n  \nLa presentación de los resultados se realizará el próximo 10 de diciembre\, a partir de las 9:30\, de manera presencial en la Fundación PONS (Calle Serrano\, 138. Madrid). \nLas plazas son limitadas. ¡Inscríbete cuando antes! Este evento de marketing es exclusivo para socios de AMKT. Si quieres registrarte hazlo desde tu área de socios. \nY\, si necesitas ayuda\, no dudes en contactarnos: asociacion@asociacionmkt.es y +34 91 548 49 15 \n  \nCompártelo en tus RRSS #AMKTB2B \n
URL:https://www.asociacionmkt.es/evento/presentacion-b2b-marketing-hot-trends-2025/
LOCATION:Fundación Pons\, Calle Serrano\, 138\, Madrid\, Madrid\, 28006\, España
CATEGORIES:PRESENTACIONES (estudios, informes, libros...)
ATTACH;FMTTYPE=image/png:https://www.asociacionmkt.es/wp-content/uploads/2025/11/Creatividad_Mkt-HOT-TRENDS-825-x-353-px.png
END:VEVENT
END:VCALENDAR