BEGIN:VCALENDAR
VERSION:2.0
PRODID:-//MKT. Asociación de Marketing de España - ECPv4.9.14//NONSGML v1.0//EN
CALSCALE:GREGORIAN
METHOD:PUBLISH
X-WR-CALNAME:MKT. Asociación de Marketing de España
X-ORIGINAL-URL:https://www.asociacionmkt.es
X-WR-CALDESC:Eventos para MKT. Asociación de Marketing de España
BEGIN:VTIMEZONE
TZID:Europe/Madrid
BEGIN:DAYLIGHT
TZOFFSETFROM:+0100
TZOFFSETTO:+0200
TZNAME:CEST
DTSTART:20210328T010000
END:DAYLIGHT
BEGIN:STANDARD
TZOFFSETFROM:+0200
TZOFFSETTO:+0100
TZNAME:CET
DTSTART:20211031T010000
END:STANDARD
END:VTIMEZONE
BEGIN:VEVENT
DTSTART;TZID=Europe/Madrid:20210128T093000
DTEND;TZID=Europe/Madrid:20210128T114500
DTSTAMP:20260423T232925
CREATED:20201215T115954Z
LAST-MODIFIED:20210118T125525Z
UID:35781-1611826200-1611834300@www.asociacionmkt.es
SUMMARY:Presentación del Barómetro de patrocinio deportivo 2020 | MKT Deporte
DESCRIPTION:El próximo 28 de enero presentaremos en el marco del Comité de Marketing Deportivo el «Barómetro de patrocinio deportivo 2020»\, una herramienta imprescindible para entender mejor la situación a la que se presenta el sector del patrocinio\, tanto a nivel de marcas como a nivel de properties. Realizaremos el evento desde el auditorio El Beatriz Madrid (Calle Ortega y Gasset\, 29) y podrá seguirse por streaming a partir de las 09:30. \nLa presentación se compondrá por los siguientes paneles: \n\nLa opinión acerca del patrocinio desde el punto de vista de las empresas patrocinadoras\nLa opinión acerca del patrocinio desde el punto de vista de las properties\nLa opinión de la demanda/población sobre la notoriedad y asociación de los patrocinadores y las properties\nLas tendencias generales del patrocinio\n\nEn el debate posterior a la presentación contaremos con: \n\nJesús Bueno\, vicepresidente en EMEA-NBA\nPau Serracanta\, director general comercial en Dorna Sports\nJorge de la Vega\, director de Marketing y Comercial en LaLiga\nMª Carmen Fernández\, Innovation and New Business Manager en MEDIAPRO Group\n\n> Ya puedes registrarte de manera gratuita en este enlace\n  \n
URL:https://www.asociacionmkt.es/evento/presentacion-barometro-de-patrocinio-deportivo-2020/
LOCATION:El Beatriz Madrid\, c/ Ortega y Gasset\, 29\, Madrid\, Madrid\, 28006\, España
CATEGORIES:PRESENTACIONES (estudios, informes, libros...)
ATTACH;FMTTYPE=image/jpeg:https://www.asociacionmkt.es/wp-content/uploads/2020/12/Web-825x353px.jpg
END:VEVENT
END:VCALENDAR