BEGIN:VCALENDAR
VERSION:2.0
PRODID:-//MKT. Asociación de Marketing de España - ECPv4.9.14//NONSGML v1.0//EN
CALSCALE:GREGORIAN
METHOD:PUBLISH
X-WR-CALNAME:MKT. Asociación de Marketing de España
X-ORIGINAL-URL:https://www.asociacionmkt.es
X-WR-CALDESC:Eventos para MKT. Asociación de Marketing de España
BEGIN:VTIMEZONE
TZID:Europe/Madrid
BEGIN:DAYLIGHT
TZOFFSETFROM:+0100
TZOFFSETTO:+0200
TZNAME:CEST
DTSTART:20220327T010000
END:DAYLIGHT
BEGIN:STANDARD
TZOFFSETFROM:+0200
TZOFFSETTO:+0100
TZNAME:CET
DTSTART:20221030T010000
END:STANDARD
END:VTIMEZONE
BEGIN:VEVENT
DTSTART;TZID=Europe/Madrid:20220628T090000
DTEND;TZID=Europe/Madrid:20220628T130000
DTSTAMP:20260423T190720
CREATED:20220616T101220Z
LAST-MODIFIED:20220620T114156Z
UID:48235-1656406800-1656421200@www.asociacionmkt.es
SUMMARY:Presentación de «Simply Smart» de Toluna
DESCRIPTION:El próximo 28 de junio\, de 9:00 a 13:00\, Toluna presentará el informe «Simply Smart»\, en el que han participado los socios de AMKT sobre el panorama actual de Agile Research.\nPara comprender cómo está cambiando la industria\, nuestro socio colaborador\, Toluna\, la empresa que ofrece insights del consumidor en tiempo real\, celebrará un nuevo evento el próximo el 28 de junio en el Hotel Emperador de Madrid\, con la participación de BNP Paribas Cardif\, JTI\, Sony y Telefónica. \n«Simply Smart» reunirá a un grupo de ponentes de peso en una mesa redonda moderada por nuestro director general\, Víctor Conde\, y se realizará un debate sobre el futuro de la investigación de mercado ágil y cómo los insights del consumidor en tiempo real y la automatización de metodologías responden a los desafíos actuales y a los del futuro. \nEn el evento se presentará un estudio global de Toluna\, en el que participaron nuestros socios\, sobre el estado actual de la industria y las necesidades futuras de los profesionales de los insights. Este estudio nos trae insights sobre cómo evolucionará la industria en los próximos años\, factores determinantes\, desafíos\, prioridades y estrategias actuales de la investigación de mercados; la asignación de presupuestos entre los diferentes métodos y metodologías de investigación; el papel y las habilidades de los equipos internos\, agencias y tecnología\, entre otros. \n  \nPARTICIPAN:\n–Víctor Conde\, director general de AMKT \n–Gemma Zaragoza\, Head of Market Research & Competitive Analysis en Telefónica \n–Fernando Ramírez\, Marketing Analytics & Media Manager Iberia\, Mediterranean\, Adriatic & Balkans en Sony \n–Eva Vicente\, Iberia Market Research Manager en JTI \n–Antonio Canto\, Market Research Manager en BNP Paribas Cardif \n–Víctor González\, Senior Research Manager en Toluna \n–Maura Guerretta\, Director Digital Solutions Southern Europe en Toluna \n–Marco Gastaut\, Managing Director\, SEUR\, MEA and Chief Sales Officer Germany en Toluna \n  \n INSCRÍBETE\n  \nCompártelo en tus RRSS: \n
URL:https://www.asociacionmkt.es/evento/presentacion-de-simply-smart-de-toluna/
LOCATION:Hotel Emperador\, Calle Gran vía\, 53\, Madrid\, Madrid\, 28013\, España
CATEGORIES:PRESENTACIONES (estudios, informes, libros...)
ATTACH;FMTTYPE=image/png:https://www.asociacionmkt.es/wp-content/uploads/2022/06/ES-simply-smart-AMKT-web.png
GEO:40.4213333;-3.7085692
X-APPLE-STRUCTURED-LOCATION;VALUE=URI;X-ADDRESS=Hotel Emperador Calle Gran vía 53 Madrid Madrid 28013 España;X-APPLE-RADIUS=500;X-TITLE=Calle Gran vía\, 53:geo:-3.7085692,40.4213333
END:VEVENT
END:VCALENDAR