BEGIN:VCALENDAR
VERSION:2.0
PRODID:-//MKT. Asociación de Marketing de España - ECPv4.9.14//NONSGML v1.0//EN
CALSCALE:GREGORIAN
METHOD:PUBLISH
X-WR-CALNAME:MKT. Asociación de Marketing de España
X-ORIGINAL-URL:https://www.asociacionmkt.es
X-WR-CALDESC:Eventos para MKT. Asociación de Marketing de España
BEGIN:VTIMEZONE
TZID:Europe/Madrid
BEGIN:DAYLIGHT
TZOFFSETFROM:+0100
TZOFFSETTO:+0200
TZNAME:CEST
DTSTART:20210328T010000
END:DAYLIGHT
BEGIN:STANDARD
TZOFFSETFROM:+0200
TZOFFSETTO:+0100
TZNAME:CET
DTSTART:20211031T010000
END:STANDARD
END:VTIMEZONE
BEGIN:VEVENT
DTSTART;TZID=Europe/Madrid:20210415T093000
DTEND;TZID=Europe/Madrid:20210415T110000
DTSTAMP:20260424T010305
CREATED:20210311T114200Z
LAST-MODIFIED:20210409T075202Z
UID:37252-1618479000-1618484400@www.asociacionmkt.es
SUMMARY:Presentación del Dictamen de Marketing Deportivo del Comité de Expertos
DESCRIPTION:  \nEl próximo 15 de abril realizaremos la presentación del Dictamen de Expertos 2021 en el que el Comité de Marketing Deportivo\, coordinado por Carlos Cantó\,  profundizará sobre la actualidad del marketing deportivo\, junto a SPSG Consulting. En esta edición\, el tema principal del estudio es el «Desarrollo de la marca en el deporte»\, tanto desde el punto de vista de las marcas patrocinadoras como desde la perspectiva de las properties. \n  \n\nDe 9:30 a 11:00\, la sede de Havas Group en Madrid acogerá la presentación del Dictamen de Expertos 2021 en un modelo híbrido\, con un aforo presencial limitado y retransmisión por streaming durante toda la jornada.   \n\n\n\n\n\n\n\n\n\n\n \n\n\n\n\n\n\n\nAGENDA\n \n\n\n\n\n\n\n\n\n\n\nBienvenida\n \n\n\n\n\n\n\nAsociación Marketing España\n\n\n\n\n\n\n\n\n \nPresentación del Dictamen \n \n\n\n\n\n\n\n\n\nCarlos Cantó\, vocal en MKT y CEO de SPSG Consulting\n\n\n\n\n\n\n \n\n\n\n\n Debate  \n\n\n\n\n\n\n\n\n\n\nSusana Gaytán\, directora adjunta del Comité Paralímpico Español \nPatricia Rodríguez\, consejera del Granada CF \nFran Carrasco CEO de Molca World \nCristina Vicedo\, presidente de la Asociación Española de Branding/AEBrand \n\n\n\n\n\n\n\n\n \n\n\n \n\n\n \n\n\n\n> Ya puedes registrarte a través de este enlace\n \n
URL:https://www.asociacionmkt.es/evento/presentacion-del-dictamen-de-expertos-comite-de-marketing-deportivo/
LOCATION:Madrid\, Madrid\, España
CATEGORIES:PRESENTACIONES (estudios, informes, libros...)
ATTACH;FMTTYPE=image/png:https://www.asociacionmkt.es/wp-content/uploads/2021/03/EventoDictamendeexpertos_Web825x353px_Mesa-de-trabajo-1-copia.png
GEO:40.4167754;-3.7037902
END:VEVENT
END:VCALENDAR