BEGIN:VCALENDAR
VERSION:2.0
PRODID:-//MKT. Asociación de Marketing de España - ECPv4.9.14//NONSGML v1.0//EN
CALSCALE:GREGORIAN
METHOD:PUBLISH
X-WR-CALNAME:MKT. Asociación de Marketing de España
X-ORIGINAL-URL:https://www.asociacionmkt.es
X-WR-CALDESC:Eventos para MKT. Asociación de Marketing de España
BEGIN:VTIMEZONE
TZID:Europe/Madrid
BEGIN:DAYLIGHT
TZOFFSETFROM:+0100
TZOFFSETTO:+0200
TZNAME:CEST
DTSTART:20200329T010000
END:DAYLIGHT
BEGIN:STANDARD
TZOFFSETFROM:+0200
TZOFFSETTO:+0100
TZNAME:CET
DTSTART:20201025T010000
END:STANDARD
END:VTIMEZONE
BEGIN:VEVENT
DTSTART;TZID=Europe/Madrid:20200630T100000
DTEND;TZID=Europe/Madrid:20200630T110000
DTSTAMP:20260425T021235
CREATED:20200514T082407Z
LAST-MODIFIED:20200619T121959Z
UID:32447-1593511200-1593514800@www.asociacionmkt.es
SUMMARY:Presentación de la ola XXVIII del IEDM: perspectiva para el segundo semestre de 2020
DESCRIPTION:El próximo 30 de junio a las 10:00 presentaremos la ola XXVIII del Índice de Expectativas de los Directores de Marketing (IEDM) en colaboración con la empresa de investigación de mercados GFK. Un índice de profesionales para profesionales que muestra una previsión del comportamiento del mercado\, tanto cuantitativa como cualitativa\, en base a las previsiones de los directores de Marketing respecto al comportamiento de sus marcas\, inversión publicitaria\, ventas\, etc. y lo relativo a los principales sectores económicos del país. \nEn esta presentación se mostrarán los resultados del informe con el que se pueden obtener conclusiones muy valiosas sobre las expectativas de lo que va a ocurrir en el segundo semestre de 2020. \nEl acto contará con la participación de Víctor Conde\, Julio Vidosa y Javier Gómez\, coordinadores del proyecto. \nLa presentación se realizará de manera presencial\, en la sede de MKT y online. \n  \n> Puedes registrarte aquí de manera gratuita\n
URL:https://www.asociacionmkt.es/evento/presentacion-del-estudio-iedm/
LOCATION:Asociación de Marketing de España\, C/ Carranza 25\, 1º Dcha\, Madrid\, 28004\, España
CATEGORIES:PRESENTACIONES (estudios, informes, libros...)
ATTACH;FMTTYPE=image/jpeg:https://www.asociacionmkt.es/wp-content/uploads/2020/05/web-825x353px_Mesa-de-trabajo-1.jpg
END:VEVENT
END:VCALENDAR