BEGIN:VCALENDAR
VERSION:2.0
PRODID:-//MKT. Asociación de Marketing de España - ECPv4.9.14//NONSGML v1.0//EN
CALSCALE:GREGORIAN
METHOD:PUBLISH
X-WR-CALNAME:MKT. Asociación de Marketing de España
X-ORIGINAL-URL:https://www.asociacionmkt.es
X-WR-CALDESC:Eventos para MKT. Asociación de Marketing de España
BEGIN:VTIMEZONE
TZID:Europe/Madrid
BEGIN:DAYLIGHT
TZOFFSETFROM:+0100
TZOFFSETTO:+0200
TZNAME:CEST
DTSTART:20250330T010000
END:DAYLIGHT
BEGIN:STANDARD
TZOFFSETFROM:+0200
TZOFFSETTO:+0100
TZNAME:CET
DTSTART:20251026T010000
END:STANDARD
END:VTIMEZONE
BEGIN:VEVENT
DTSTART;TZID=Europe/Madrid:20250703T100000
DTEND;TZID=Europe/Madrid:20250703T111500
DTSTAMP:20260423T204352
CREATED:20250616T122759Z
LAST-MODIFIED:20250620T084818Z
UID:73459-1751536800-1751541300@www.asociacionmkt.es
SUMMARY:Streaming | Presentación del Panel TOP-235 CMOs en LinkedIn 2025
DESCRIPTION:Vive mediante streaming esta jornada\, donde revelaremos\, en colaboración con Epsilon Technologies\, el ranking TOP-235 CMOs en LinkedIn 2025\, con las claves del liderazgo digital en marketing. ¡Inscríbete!\nEn colaboración con Epsilon Technologies\, nuestro socio empresa colaborador\, te invitamos a una jornada única para descubrir quiénes son los profesionales del marketing más influyentes en LinkedIn en España y qué están haciendo para destacar.\n  \nDurante el evento presentaremos el estudio Top-235 CMOs en LinkedIn 2025 y conoceremos las estrategias\, contenidos y buenas prácticas que están marcando la diferencia en el posicionamiento digital de los líderes del sector.\n\n  \nAdemás\, contaremos con una mesa redonda con destacados CMOs\, donde se abordarán temas clave como visibilidad\, liderazgo digital\, marca personal y employer branding. Una oportunidad única para aprender de quienes ya están marcando la diferencia en el sector.\n  \nAGENDA\n  \n\n10:00 – 10:30 | Presentación del estudio por Daniel Devai\, CEO de Epsilon Technologies.\n\n  \n\n10:30 – 11:15 | Mesa redonda con CMOs invitados.\n\n\nBeatriz Navarro\, CMO de Renault\nCarlos Juan Estevan\, CMO de Vicky Foods\nDaniel Marsol\, Director de Marketing de bonÀrea Agrupa\nMarta Domínguez\, Marketing Manager de Mediamarkt\nPablo Olivares\, Director de Marketing de El Pozo Alimentación\n\n\n  \n\nUna sesión inspiradora para aprender de los que ya lideran en LinkedIn y potenciar tu propia marca profesional.\n  \n\nEs un evento presencial exclusivo para socios corporativos y colaboradores de AMKT\, pero puedes acceder a él en streaming. \n\nPlazas limitadas. Reserva tu asistencia en streaming\n\n  \nREGISTRO\n  \n  \n\n\nCompártelo en tus RRSS: \n\n\n\n
URL:https://www.asociacionmkt.es/evento/presentacion-del-panel-top-235-cmos-en-linkedin-2025-2/
LOCATION:Impact Hub Madrid (Piamonte\, 23)\, Impact Hub Madrid (Piamonte\, 23)\, Madrid\, Madrid\, España
CATEGORIES:PRESENTACIONES (estudios, informes, libros...)
ATTACH;FMTTYPE=image/png:https://www.asociacionmkt.es/wp-content/uploads/2025/06/EPSILON_Panel-TOP-235-CMOs-en-LinkedIn-2025-1.png
GEO:40.4167279;-3.7032905
X-APPLE-STRUCTURED-LOCATION;VALUE=URI;X-ADDRESS=Impact Hub Madrid (Piamonte 23) Impact Hub Madrid (Piamonte 23) Madrid Madrid España;X-APPLE-RADIUS=500;X-TITLE=Impact Hub Madrid (Piamonte\, 23):geo:-3.7032905,40.4167279
END:VEVENT
END:VCALENDAR