BEGIN:VCALENDAR
VERSION:2.0
PRODID:-//MKT. Asociación de Marketing de España - ECPv4.9.14//NONSGML v1.0//EN
CALSCALE:GREGORIAN
METHOD:PUBLISH
X-WR-CALNAME:MKT. Asociación de Marketing de España
X-ORIGINAL-URL:https://www.asociacionmkt.es
X-WR-CALDESC:Eventos para MKT. Asociación de Marketing de España
BEGIN:VTIMEZONE
TZID:Europe/Madrid
BEGIN:DAYLIGHT
TZOFFSETFROM:+0100
TZOFFSETTO:+0200
TZNAME:CEST
DTSTART:20230326T010000
END:DAYLIGHT
BEGIN:STANDARD
TZOFFSETFROM:+0200
TZOFFSETTO:+0100
TZNAME:CET
DTSTART:20231029T010000
END:STANDARD
END:VTIMEZONE
BEGIN:VEVENT
DTSTART;TZID=Europe/Madrid:20230215T093000
DTEND;TZID=Europe/Madrid:20230215T110000
DTSTAMP:20260424T000531
CREATED:20230120T134448Z
LAST-MODIFIED:20230315T160008Z
UID:52125-1676453400-1676458800@www.asociacionmkt.es
SUMMARY:Presentación | Dictamen de Expertos de Marketing Deportivo
DESCRIPTION:El próximo 15 de febrero presentamos una nueva edición de nuestro Dictamen de Expertos de Marketing Deportivo\, que abordará la sostenibilidad social en el sector. ¡No te lo pierdas!\nActualmente\, el deporte es industria; genera el 3\,3 % del PIB en España. Su presencia y capacidad de mover masas está cada vez más arraigada en nuestra sociedad\, y esto se debe usar de manera positiva\, como palanca de sensibilización en post del empoderamiento de la sostenibilidad. \nA mediados del 2022\, el Comité Expertos Marketing Deportivo (CEMDE) de la Asociación de Marketing de España elaboró un informe acerca de la simbiosis entre deporte y sostenibilidad medioambiental. El 15 de febrero se presenta el informe de la segunda de los tres ejes de la sostenibilidad: la sostenibilidad social desde el entorno del marketing deportivo. \nLa sostenibilidad social tiene como objetivo fortalecer la cohesión y estabilidad de las poblaciones y su desarrollo. Junto con la sostenibilidad medioambiental y económica\, el eje social es imprescindible para mejorar la inclusión y las oportunidades de todas las comunidades que forman parte de una sociedad. \nLa sostenibilidad social trasciende al papel que tienen en la igualdad y creación de oportunidades para todos. El bienestar social debe ser un objetivo primordial en la sostenibilidad y\, debido al importante peso que tienen las empresas a nivel global\, éstas deben ser conscientes de su rol y actuar de manera ejemplar. \n¿Cuál es el rol del deporte\, desde el punto de vista del marketing deportivo y del patrocinio\, en esta ecuación? ¿Cuáles son las tendencias del futuro? Estos y muchos más aspectos se presentarán y se debatirán el 15 de febrero de 2023\, de 09:30 a 11:00 en la sede de Havas Media Group (c/ Eloy Gonzalo 10\, Madrid). \n  \nAGENDA \n09:30 – 09:40 | Bienvenida e introducción \n\nVíctor Conde\, director general de AMKT\n\n09:40 – 10:00 | Presentación de las principales conclusiones del informe \n\nCarlos Cantó\, CEO de SPSG Consulting\n\n10:00 – 11:00 | Panel de debate \n\nStefi Batlle\, directora de Marketing y Comunicación de Bàsquet Girona\nAlfredo Bustillo\, director de Patrocinio de CaixaBank\nSusana Gaytán\, directora adjunta de Marketing\, Comunicación y Patrocinio del Comité Paralímpico Español\nMaría Lacasa\, directora de Marca\, Patrocinios y Contenidos de Endesa\nJuan Miguel Gómez\, director de Fundación Trinidad Alfonso\nManuel Parga\, director de Marketing\, Recursos Humanos y Sostenibilidad del Comité Olímpico Español\n\n  \nREGISTRO\n  \nCompártelo en tus RRSS #AMKTDeporte: \n
URL:https://www.asociacionmkt.es/evento/presentacion-dictamen-de-expertos-de-marketing-deportivo/
LOCATION:Havas Media Group\, Eloy Gonzalo\, 10\, Madrid\, Madrid\, 28010\, España
CATEGORIES:PRESENTACIONES (estudios, informes, libros...)
ATTACH;FMTTYPE=image/png:https://www.asociacionmkt.es/wp-content/uploads/2023/01/Dictamen_-1.png
GEO:40.4167754;-3.7037902
X-APPLE-STRUCTURED-LOCATION;VALUE=URI;X-ADDRESS=Havas Media Group Eloy Gonzalo 10 Madrid Madrid 28010 España;X-APPLE-RADIUS=500;X-TITLE=Eloy Gonzalo\, 10:geo:-3.7037902,40.4167754
END:VEVENT
END:VCALENDAR