BEGIN:VCALENDAR
VERSION:2.0
PRODID:-//MKT. Asociación de Marketing de España - ECPv4.9.14//NONSGML v1.0//EN
CALSCALE:GREGORIAN
METHOD:PUBLISH
X-WR-CALNAME:MKT. Asociación de Marketing de España
X-ORIGINAL-URL:https://www.asociacionmkt.es
X-WR-CALDESC:Eventos para MKT. Asociación de Marketing de España
BEGIN:VTIMEZONE
TZID:Europe/Madrid
BEGIN:DAYLIGHT
TZOFFSETFROM:+0100
TZOFFSETTO:+0200
TZNAME:CEST
DTSTART:20170326T010000
END:DAYLIGHT
BEGIN:STANDARD
TZOFFSETFROM:+0200
TZOFFSETTO:+0100
TZNAME:CET
DTSTART:20171029T010000
END:STANDARD
END:VTIMEZONE
BEGIN:VEVENT
DTSTART;TZID=Europe/Madrid:20171017T093000
DTEND;TZID=Europe/Madrid:20171017T120000
DTSTAMP:20260423T232110
CREATED:20161003T114931Z
LAST-MODIFIED:20161003T114931Z
UID:11615-1508232600-1508241600@www.asociacionmkt.es
SUMMARY:Presentación Estudio AMES 2016. Análisis de la Inversión en Marketing en España
DESCRIPTION:El 17 de octubre se presenta el nuevo estudio AMES\, con los datos que resumen la inversión en Marketing del año 2016\, desglosado por áreas de actividad y sectores profesionales.\nIgualmente intentaremos dar una estimación de cómo creemos que concluirá este año 2017\, en base a la información disponible del primer semestre.\nEl estudio completo estará disponible para nuestros socios en el Área Privada tras su presentación.\nPuedes consultar el estudio AMES del año 2015 pinchando aquí. \n
URL:https://www.asociacionmkt.es/evento/presentacion-estudio-ames-2016-analisis-la-inversion-marketing-espana/
LOCATION:Madrid\, Madrid\, España
CATEGORIES:PRESENTACIONES (estudios, informes, libros...)
ATTACH;FMTTYPE=image/jpeg:https://www.asociacionmkt.es/wp-content/uploads/2017/10/ames-web-evento.jpg
END:VEVENT
END:VCALENDAR