BEGIN:VCALENDAR
VERSION:2.0
PRODID:-//MKT. Asociación de Marketing de España - ECPv4.9.14//NONSGML v1.0//EN
CALSCALE:GREGORIAN
METHOD:PUBLISH
X-WR-CALNAME:MKT. Asociación de Marketing de España
X-ORIGINAL-URL:https://www.asociacionmkt.es
X-WR-CALDESC:Eventos para MKT. Asociación de Marketing de España
BEGIN:VTIMEZONE
TZID:Europe/Madrid
BEGIN:DAYLIGHT
TZOFFSETFROM:+0100
TZOFFSETTO:+0200
TZNAME:CEST
DTSTART:20260329T010000
END:DAYLIGHT
BEGIN:STANDARD
TZOFFSETFROM:+0200
TZOFFSETTO:+0100
TZNAME:CET
DTSTART:20261025T010000
END:STANDARD
END:VTIMEZONE
BEGIN:VEVENT
DTSTART;TZID=Europe/Madrid:20260120T093000
DTEND;TZID=Europe/Madrid:20260120T123000
DTSTAMP:20260424T010307
CREATED:20251218T090733Z
LAST-MODIFIED:20260116T131519Z
UID:79042-1768901400-1768912200@www.asociacionmkt.es
SUMMARY:Presentación | Estudio IEDM: Índice de Expectativas de los Directores de Marketing
DESCRIPTION:El próximo 20 de enero\, de 09:30 a 12:30\, celebraremos en exclusiva para nuestros socios la presentación del estudio IEDM del primer semestre de 2026.\nLlega una nueva edición del Estudio IEDM: el análisis de referencia que anticipa hacia dónde evoluciona el marketing entre empresas en España. \nEn colaboración con GfK – A NielsenIQ Company\, empresa líder en análisis de mercado\, el Estudio IEDM (Índice de Expectativas de los Directores de Marketing) recopila datos de una muestra representativa de empresas de diversos sectores. Este informe proporciona un análisis detallado de las previsiones de los directores de marketing sobre la evolución de sus mercados\, sirviendo como un indicador clave y confiable del comportamiento económico global. \nEl próximo 20 de enero\, de 09:30 a 12:30\, se presentarán los resultados de la XXXVIII Ola del Índice de Expectativas de los Directores de Marketing (IEDM)  correspondiente al primer semestre de 2026. \nAdemás\, este año la presentación se verá reforzada con una breve intervención destinada a exponer los principales hallazgos cualitativos del estudio CMO Barometer 2026\, a cargo de nuestro socio estratégico MediaPlus Equmedia. \nEl evento\, que se celebrará en Espacio Eventize (C/ María de Molina\, 41. Madrid)\, incluirá también una mesa de debate donde expertos del sector analizarán y discutirán las conclusiones del informe. \n  \nAGENDA \n09:30 – 10:00 | Registro de asistentes \n10:00 – 10:15 | Apertura del evento \n\nBeatriz Navarro\, presidenta de AMKT y CMO de Renault \n\n10:15 – 10:45 | Presentación del estudio \n\nJavier Gómez\, director de Brand\, Comms & CX de GfK– A NielsenIQ Company y consejero de AMKT\n\n10:45 – 10:55 | Presentación del estudio CMO Barometer 2026 \n\nJulia Zimmermann\, responsable del área de Brand Strategy & Positioning en Future Marketing | MediaPlus Equmedia\n\n10:55 – 11:45 | Mesa redonda (participantes confirmados hasta la fecha) \n\nMargarita Baselga\, CMO de Aquaservice\nPaz Comesaña\, CMO de Bankinter\n\nJosé Luis de Rojas\, presidente y CEO de Mediaplus Equmedia\n\nModerador: Juan Ramón Gil Gómez\, director de Marketing y desarrollo de El Economista\n\n11:45 – 12:30 | Networking & desayuno \n  \nLas plazas son limitadas. ¡Inscríbete cuando antes! Este evento de marketing es exclusivo para socios de AMKT. Si quieres registrarte hazlo desde tu área privada de socios. \nÁREA DE SOCIOS\n  \nPara acceder a las 10 plazas exclusivas para no socios\, puedes registrarte aquí \nPLAZAS NO SOCIOS\n  \n  \n> Puedes acceder a la versión pública del último estudio IEDM aquí\nSi eres socio de AMKT\, tienes a tu disposición el estudio completo en el área de socios.\n  \nY\, si quieres más información\, no dudes en contactarnos\, en el correo electrónico atencionalsocio@asociacionmkt.es o en el teléfono +34 91 548 49 15 \n  \nCompártelo en tus RRSS con #IEDM: \n
URL:https://www.asociacionmkt.es/evento/presentacion-estudio-iedm-indice-de-expectativas-de-los-directores-de-marketing/
LOCATION:Espacio Eventize\, C/ María de Molina\, 41\, Madrid\, Madrid\, España
CATEGORIES:PRESENTACIONES (estudios, informes, libros...)
ATTACH;FMTTYPE=image/png:https://www.asociacionmkt.es/wp-content/uploads/2025/12/17E-6943EC80-55-2ECEBA80.png
GEO:40.4375987;-3.6784235
X-APPLE-STRUCTURED-LOCATION;VALUE=URI;X-ADDRESS=Espacio Eventize C/ María de Molina 41 Madrid Madrid España;X-APPLE-RADIUS=500;X-TITLE=C/ María de Molina\, 41:geo:-3.6784235,40.4375987
END:VEVENT
END:VCALENDAR