BEGIN:VCALENDAR
VERSION:2.0
PRODID:-//MKT. Asociación de Marketing de España - ECPv4.9.14//NONSGML v1.0//EN
CALSCALE:GREGORIAN
METHOD:PUBLISH
X-WR-CALNAME:MKT. Asociación de Marketing de España
X-ORIGINAL-URL:https://www.asociacionmkt.es
X-WR-CALDESC:Eventos para MKT. Asociación de Marketing de España
BEGIN:VTIMEZONE
TZID:Europe/Madrid
BEGIN:DAYLIGHT
TZOFFSETFROM:+0100
TZOFFSETTO:+0200
TZNAME:CEST
DTSTART:20230326T010000
END:DAYLIGHT
BEGIN:STANDARD
TZOFFSETFROM:+0200
TZOFFSETTO:+0100
TZNAME:CET
DTSTART:20231029T010000
END:STANDARD
END:VTIMEZONE
BEGIN:VEVENT
DTSTART;TZID=Europe/Madrid:20230703T093000
DTEND;TZID=Europe/Madrid:20230703T103000
DTSTAMP:20260423T164757
CREATED:20230523T085751Z
LAST-MODIFIED:20230523T142916Z
UID:53677-1688376600-1688380200@www.asociacionmkt.es
SUMMARY:Presentación | IEDM (Índice de Expectativas de los Directores de Marketing) del segundo semestre de 2023
DESCRIPTION:Te invitamos a la presentación del estudio IEDM del segundo semestre de 2023\, que se celebrará el 3 de julio en GfK.\n\nEl Estudio IEDM (Índice de Expectativas de los Directores de Marketing) es un informe que realizamos junto a GfK en el que\, en base a una muestra representativa de empresas de diferentes sectores\, se mide el grado de expectativas de sus directores de marketing respecto a la evolución de sus mercados\, obteniendo\, por tanto\, un indicador valioso y fiable del comportamiento de la economía global. \nEste índice\, creado por profesionales y dirigido a profesionales\, permite disponer de información relevante\, fiable y objetiva\, tanto cuantitativa como cualitativa\, en base a las previsiones de los directores de marketing respecto al comportamiento de sus marcas\, inversión publicitaria\, ventas\, etc. Además\, ofrece información respecto a los sectores analizados así como otros temas concretos que se introducen en función del contexto actual. \nLa presentación del IEDM del segundo semestre de 2023 tendrá lugar el próximo 3 de julio\, de 9:30 a 10:30\, en GfK (Calle de Luchana\, 23\, Madrid). Conoceremos los resultados junto a Víctor Conde y Javier Gómez\, coordinadores del proyecto. ¡Contamos contigo! \n  \nREGISTRO\n  \n> PUEDES ACCEDER AQUÍ A LA VERSIÓN PÚBLICA DEL ESTUDIO IEDM ANTERIOR\n\nSI ERES SOCIO DE AMKT\, TIENES A TU DISPOSICIÓN EL ESTUDIO COMPLETO EN EL ÁREA DE SOCIOS.\n  \nCompártelo en tus RRSS #IEDM: \n
URL:https://www.asociacionmkt.es/evento/presentacion-iedm-indice-de-expectativas-de-los-directores-de-marketing-del-segundo-semestre-de-2023/
LOCATION:GfK\, Calle de Luchana\, 23\, 6.º\, Madrid\, Madrid\, 28010\, España
CATEGORIES:PRESENTACIONES (estudios, informes, libros...)
ATTACH;FMTTYPE=image/png:https://www.asociacionmkt.es/wp-content/uploads/2023/05/AMKT_IEDM_2S2023_web.png
GEO:40.4311288;-3.699937
X-APPLE-STRUCTURED-LOCATION;VALUE=URI;X-ADDRESS=GfK Calle de Luchana 23 6.º Madrid Madrid 28010 España;X-APPLE-RADIUS=500;X-TITLE=Calle de Luchana\, 23\, 6.º:geo:-3.699937,40.4311288
END:VEVENT
END:VCALENDAR