BEGIN:VCALENDAR
VERSION:2.0
PRODID:-//MKT. Asociación de Marketing de España - ECPv4.9.14//NONSGML v1.0//EN
CALSCALE:GREGORIAN
METHOD:PUBLISH
X-WR-CALNAME:MKT. Asociación de Marketing de España
X-ORIGINAL-URL:https://www.asociacionmkt.es
X-WR-CALDESC:Eventos para MKT. Asociación de Marketing de España
BEGIN:VTIMEZONE
TZID:Europe/Madrid
BEGIN:DAYLIGHT
TZOFFSETFROM:+0100
TZOFFSETTO:+0200
TZNAME:CEST
DTSTART:20210328T010000
END:DAYLIGHT
BEGIN:STANDARD
TZOFFSETFROM:+0200
TZOFFSETTO:+0100
TZNAME:CET
DTSTART:20211031T010000
END:STANDARD
END:VTIMEZONE
BEGIN:VEVENT
DTSTART;TZID=Europe/Madrid:20210316T093000
DTEND;TZID=Europe/Madrid:20210316T103000
DTSTAMP:20260423T194915
CREATED:20210225T134415Z
LAST-MODIFIED:20210303T085945Z
UID:36806-1615887000-1615890600@www.asociacionmkt.es
SUMMARY:Presentación del III Estudio de Marketing Relacional de Mediapost
DESCRIPTION:El próximo 16 de marzo tendrá lugar la presentación online del III Estudio de Marketing Relacional de Mediapost\, elaborado por la división Insights de Kantar con nuestra colaboración. \nEn esta tercera edición se presentarán\, entre otros datos: \n\nLas distintas opiniones de los consumidores sobre las promociones\nSu experiencia de compra\nEl descubrimiento de marcas\n\nLa presentación tendrá lugar el 16 de marzo a partir de las 9:30 y\, posteriormente\, se abrirá paso a una ronda de preguntas de los asistentes para debatir sobre los resultados obtenidos en el informe. \n  \n> Ya puedes registrarte a través de este enlace\n\n\n
URL:https://www.asociacionmkt.es/evento/presentacion-iii-estudio-marketing-relacional-mediapost/
LOCATION:online\, Madrid\, Madrid\, España
CATEGORIES:PRESENTACIONES (estudios, informes, libros...)
ATTACH;FMTTYPE=image/jpeg:https://www.asociacionmkt.es/wp-content/uploads/2021/02/III-Estudio-de-Marketing-Relacional-_Promo-_Web-_2.jpg
GEO:40.4167754;-3.7037902
END:VEVENT
END:VCALENDAR