BEGIN:VCALENDAR
VERSION:2.0
PRODID:-//MKT. Asociación de Marketing de España - ECPv4.9.14//NONSGML v1.0//EN
CALSCALE:GREGORIAN
METHOD:PUBLISH
X-WR-CALNAME:MKT. Asociación de Marketing de España
X-ORIGINAL-URL:https://www.asociacionmkt.es
X-WR-CALDESC:Eventos para MKT. Asociación de Marketing de España
BEGIN:VTIMEZONE
TZID:Europe/Madrid
BEGIN:DAYLIGHT
TZOFFSETFROM:+0100
TZOFFSETTO:+0200
TZNAME:CEST
DTSTART:20200329T010000
END:DAYLIGHT
BEGIN:STANDARD
TZOFFSETFROM:+0200
TZOFFSETTO:+0100
TZNAME:CET
DTSTART:20201025T010000
END:STANDARD
END:VTIMEZONE
BEGIN:VEVENT
DTSTART;TZID=Europe/Madrid:20200608T160000
DTEND;TZID=Europe/Madrid:20200608T163000
DTSTAMP:20260424T010136
CREATED:20200429T080054Z
LAST-MODIFIED:20200605T115339Z
UID:31883-1591632000-1591633800@www.asociacionmkt.es
SUMMARY:Presentación de la Lista Corta de la XII edición de los Premios MKT
DESCRIPTION:\nComo anunciamos hace unas semanas\, la XII edición de los Premios Nacionales de Marketing continúa. En los últimos meses\, desde casa\, el equipo de MKT\, ATREVIA y todos los miembros del jurado hemos seguido trabajando para que se puedan conocer los casos que conforman la Lista Corta a tiempo. Por ello\, el próximo 8 de junio realizaremos la presentación de la Lista Corta de los Premios MKT. \nDebido a la compleja situación que estamos viviendo a causa de la crisis del Covid-19\, este año hemos adaptado el formato de la comunicación de la Lista Corta: se presentará en primicia a través de nuestro canal de Youtube el próximo 8 de junio a las 16:00. \n  \n> Accede aquí a nuestro canal de Youtube\n\n\nMientras esperamos a conocer los candidatos seleccionados\, recuerda los casos que conforman la Lista Larga aquí:\n\n\n\nMarca: Applus+\, Bankinter\, Correos\, El Águila\, Endesa\, Finíssimas\, Kellog’s\, KFC\, LaLiga\, McDonald’s\, Mondragón\, Museo Nacional del Prado\, Scotch-Brite\, Uber y Valencia CF.\n\n\nInnovación: Altamira Asset Management\, Bankinter\, Cigna\, Correos\, Evobanco\, Goiko\, Iberdrola\, Mahou\, Mondragón\, Seagrams\, Tanqueray Flor de Sevilla\, Top Tourism\, Uriach\, Vía Célere y Yoigo.\n\n\nStart-ups y Pymes: Aloha Poké\, Finetwork\, Fresh Snow\, Jeff\, Native Organics\, Tasty Poke\, Top Photo Talent Show y Ununuzi Consulting.\n\n\nMarketing Social: Acción contra el Hambre\, Ahí+\, Aiudo\, Banca March\, Bancos de Alimentos\, Banco Santander\, Essilor\, Estrella Damm\, Fundación “la Caixa”\, Hyundai\, Orpea\, Reclam\, Samsung\, Visa Universal y Yoigo.\n\n\n\n\n¿Recuerdas al jurado de esta edición? \n  \nEl próximo 25 de junio\, los miembros del jurado se reunirán para seleccionar a los ganadores de la XII edición de los Premios Nacionales de Marketing que se darán a conocer en la gala que tendrá lugar el próximo 17 de septiembre y cuyo hilo conductor será «La transversalidad de la función del marketing».  Una cita\, que ya es sin duda\, la gran noche del marketing. Próximamente informaremos de todos los detalles. ¡Reserva la fecha! \n\n
URL:https://www.asociacionmkt.es/evento/presentacion-lista-corta-xii-edicion-premios-mkt/
LOCATION:Online vía Streaming
CATEGORIES:PREMIOS
ATTACH;FMTTYPE=image/jpeg:https://www.asociacionmkt.es/wp-content/uploads/2020/04/Web-MKT_PresentaciondelaListaCorta825x353.jpg
END:VEVENT
END:VCALENDAR