BEGIN:VCALENDAR
VERSION:2.0
PRODID:-//MKT. Asociación de Marketing de España - ECPv4.9.14//NONSGML v1.0//EN
CALSCALE:GREGORIAN
METHOD:PUBLISH
X-WR-CALNAME:MKT. Asociación de Marketing de España
X-ORIGINAL-URL:https://www.asociacionmkt.es
X-WR-CALDESC:Eventos para MKT. Asociación de Marketing de España
BEGIN:VTIMEZONE
TZID:Europe/Madrid
BEGIN:DAYLIGHT
TZOFFSETFROM:+0100
TZOFFSETTO:+0200
TZNAME:CEST
DTSTART:20200329T010000
END:DAYLIGHT
BEGIN:STANDARD
TZOFFSETFROM:+0200
TZOFFSETTO:+0100
TZNAME:CET
DTSTART:20201025T010000
END:STANDARD
END:VTIMEZONE
BEGIN:VEVENT
DTSTART;TZID=Europe/Madrid:20201027T093000
DTEND;TZID=Europe/Madrid:20201027T103000
DTSTAMP:20260425T015322
CREATED:20201022T103929Z
LAST-MODIFIED:20201022T103929Z
UID:35011-1603791000-1603794600@www.asociacionmkt.es
SUMMARY:Presentación online del Estudio AMES
DESCRIPTION:El próximo 27 de octubre a partir de las 9:30 presentaremos a través de un streaming el estudio AMES de este año. \nEn la presentación de la X edición de este estudio\, que se realizará por streaming desde nuestra sede\, contaremos con los profesionales Julia Corona\, coordinadora del estudio AMES y Pedro Villa\, director de IT y de Producción en Infoadex\, quienes expondrán los resultados y las conclusiones relativos al año 2019 y las previsiones del 2020 basadas en nuestro estudio IEDM (Índice de Expectativas de los Directores de Marketing)\, que hemos actualizado recientemente de cara a las repercusiones de la COVID-19 y también\, de los datos extraídos de otros informes reconocidos como el de inversión de INFOADEX. \nTe invitamos a unirte a la presentación online que realizaremos el próximo 27 de octubre a partir de las 9:30 para debatir sobre los datos obtenidos. \n> Puedes inscribirte de manera gratuita en este enlace\nCompártelo en tus RRSS con #EstudioAMES: \n
URL:https://www.asociacionmkt.es/evento/presentacion-online-estudio-ames/
LOCATION:online\, Madrid\, Madrid\, España
CATEGORIES:PRESENTACIONES (estudios, informes, libros...)
ATTACH;FMTTYPE=image/jpeg:https://www.asociacionmkt.es/wp-content/uploads/2020/10/web-825x353px_Mesa-de-trabajo-1-copia-1.jpg
GEO:40.4167754;-3.7037902
END:VEVENT
END:VCALENDAR