BEGIN:VCALENDAR
VERSION:2.0
PRODID:-//MKT. Asociación de Marketing de España - ECPv4.9.14//NONSGML v1.0//EN
CALSCALE:GREGORIAN
METHOD:PUBLISH
X-WR-CALNAME:MKT. Asociación de Marketing de España
X-ORIGINAL-URL:https://www.asociacionmkt.es
X-WR-CALDESC:Eventos para MKT. Asociación de Marketing de España
BEGIN:VTIMEZONE
TZID:Europe/Madrid
BEGIN:DAYLIGHT
TZOFFSETFROM:+0100
TZOFFSETTO:+0200
TZNAME:CEST
DTSTART:20210328T010000
END:DAYLIGHT
BEGIN:STANDARD
TZOFFSETFROM:+0200
TZOFFSETTO:+0100
TZNAME:CET
DTSTART:20211031T010000
END:STANDARD
END:VTIMEZONE
BEGIN:VEVENT
DTSTART;TZID=Europe/Madrid:20210413T093000
DTEND;TZID=Europe/Madrid:20210413T103000
DTSTAMP:20260424T231551
CREATED:20210331T114152Z
LAST-MODIFIED:20210406T131218Z
UID:37691-1618306200-1618309800@www.asociacionmkt.es
SUMMARY:Presentación online | III Estudio de Publicidad Directa de Geobuzón
DESCRIPTION:Un año más\, Geobuzón\, la empresa de reparto de publicidad y buzoneo de Mediapost\, socio empresa colaborador de MKT\, presenta su Estudio de Publicidad Directa elaborado por Kantar y con la con nuestra colaboración. En él se recoge cómo el buzoneo contribuye al recuerdo publicitario de marca y concretamente en esta edición analizamos el efecto que ha tenido durante la pandemia. \n \nEl próximo 13 de abril a partir de las 9:30 realizaremos la presentación online del III Estudio de Publicidad Directa\, en la que analizaremos la cobertura de la publicidad directa en España; cómo contribuye la pandemia al recordatorio de marca; comparamos la publicidad directa con otros medios off y on; cuáles son los atributos que tienen los folletos y los catálogos para el consumidor; cuáles son los más esperados; y compararemos los folletos físicos y los digitales. \n  \nPROGRAMA \n\n9:30 – 9:35 | Bienvenida \n\nAsociación de Marketing de España\n\n\n9:35 – 10:05 | Presentación del III Estudio de Publicidad Directa \n\nJuan Carlos Sáez\, responsable nacional de Operaciones en Geobuzón\nJosep Boada\, responsable comercial en Barcelona en Geobuzón\n\n\n10:05 – 10:15 | Ronda de preguntas y debate \n\nJuan Carlos Sáez\, responsable nacional de Operaciones de Geobuzón\nJosep Boada\, responsable comercial en Barcelona en Geobuzón\n\n\n> Ya puedes registrarte a través de este enlace\n
URL:https://www.asociacionmkt.es/evento/presentacion-online-iii-estudio-de-publicidad-directa-de-geobuzon/
LOCATION:online\, Madrid\, Madrid\, España
CATEGORIES:PRESENTACIONES (estudios, informes, libros...)
ATTACH;FMTTYPE=image/jpeg:https://www.asociacionmkt.es/wp-content/uploads/2021/03/IIIPublicidadDirecta-_Web-_825x353_2.jpg
GEO:40.4167754;-3.7037902
END:VEVENT
END:VCALENDAR