BEGIN:VCALENDAR
VERSION:2.0
PRODID:-//MKT. Asociación de Marketing de España - ECPv4.9.14//NONSGML v1.0//EN
CALSCALE:GREGORIAN
METHOD:PUBLISH
X-WR-CALNAME:MKT. Asociación de Marketing de España
X-ORIGINAL-URL:https://www.asociacionmkt.es
X-WR-CALDESC:Eventos para MKT. Asociación de Marketing de España
BEGIN:VTIMEZONE
TZID:Europe/Madrid
BEGIN:DAYLIGHT
TZOFFSETFROM:+0100
TZOFFSETTO:+0200
TZNAME:CEST
DTSTART:20210328T010000
END:DAYLIGHT
BEGIN:STANDARD
TZOFFSETFROM:+0200
TZOFFSETTO:+0100
TZNAME:CET
DTSTART:20211031T010000
END:STANDARD
END:VTIMEZONE
BEGIN:VEVENT
DTSTART;TZID=Europe/Madrid:20210629T093000
DTEND;TZID=Europe/Madrid:20210629T093000
DTSTAMP:20260425T131503
CREATED:20210603T113854Z
LAST-MODIFIED:20210603T120016Z
UID:38876-1624959000-1624959000@www.asociacionmkt.es
SUMMARY:Presentación online | Índice de Expectativas de los Directores de Marketing (IEDM)
DESCRIPTION:El próximo 29 de junio a las 9:30 te esperamos en la presentación online de la ola XXX del IEDM de cara al segundo semestre de 2021\, en colaboración con la empresa de investigación de mercados GfK. \nUn índice de profesionales para profesionales que muestra una previsión del comportamiento del mercado\, tanto cuantitativa como cualitativa\, en base a las previsiones de los directores de Marketing respecto al comportamiento de sus marcas\, inversión publicitaria\, ventas\, etc. y lo relativo a los principales sectores económicos del país. \nEl acto contará con la participación de Víctor Conde y Javier Gómez\, coordinadores del proyecto. \n  \n> Puedes registrarte a través de este enlace\n
URL:https://www.asociacionmkt.es/evento/presentacion-online-indice-de-expectativas-de-los-directores-de-marketing-iedm/
LOCATION:online\, Madrid\, Madrid\, España
CATEGORIES:PRESENTACIONES (estudios, informes, libros...)
ATTACH;FMTTYPE=image/png:https://www.asociacionmkt.es/wp-content/uploads/2021/06/IEDM_web-825x353px_Mesa-de-trabajo-1.png
GEO:40.4167754;-3.7037902
END:VEVENT
END:VCALENDAR