BEGIN:VCALENDAR
VERSION:2.0
PRODID:-//MKT. Asociación de Marketing de España - ECPv4.9.14//NONSGML v1.0//EN
CALSCALE:GREGORIAN
METHOD:PUBLISH
X-WR-CALNAME:MKT. Asociación de Marketing de España
X-ORIGINAL-URL:https://www.asociacionmkt.es
X-WR-CALDESC:Eventos para MKT. Asociación de Marketing de España
BEGIN:VTIMEZONE
TZID:Europe/Madrid
BEGIN:DAYLIGHT
TZOFFSETFROM:+0100
TZOFFSETTO:+0200
TZNAME:CEST
DTSTART:20240331T010000
END:DAYLIGHT
BEGIN:STANDARD
TZOFFSETFROM:+0200
TZOFFSETTO:+0100
TZNAME:CET
DTSTART:20241027T010000
END:STANDARD
END:VTIMEZONE
BEGIN:VEVENT
DTSTART;TZID=Europe/Madrid:20240718T100000
DTEND;TZID=Europe/Madrid:20240718T120000
DTSTAMP:20260423T190433
CREATED:20240605T120518Z
LAST-MODIFIED:20240716T074150Z
UID:61102-1721296800-1721304000@www.asociacionmkt.es
SUMMARY:Presentación | Panel TOP-220 directores de Marketing en LinkedIn 2024
DESCRIPTION:Te invitamos a una nueva jornada donde revelaremos\, en colaboración con Epsilon Technologies\, el ranking de los 220 directores de Marketing de España más activos en LinkedIn del primer semestre de 2024. ¡Inscríbete!\nEn la era digital actual\, las redes sociales han cobrado una importancia vital\, transformándose en una plataforma esencial para el posicionamiento profesional. De hecho\, para los profesionales del marketing\, fortalecer su marca personal es clave para destacar en un mercado altamente competitivo y para dar a conocer todas sus habilidades y competencias profesionales. \nEn este contexto\, el próximo 18 de julio\, de 10:00 a 12:00\, en Roca Gallery (José Abascal\, 57)\, se llevará a cabo la presentación del «Panel TOP-220 directores de Marketing en LinkedIn 2024»\, un estudio semestral de gran valor que realiza nuestro socio empresa corporativo Epsilon Technologies. \nDurante el evento desvelaremos el ranking de los 220 directores de Marketing de España más activos y eficientes en Linkedln durante el primer semestre del año. Del mismo modo\, compartiremos las claves para que los directivos puedan mejorar su performance y posicionamiento en LinkedIn. \nPara concluir la jornada\, se celebrará una mesa redonda con la participación de Esther Morell\, Directora de Marketing y Comunicación de ILUNION\, Sara Vega Gil\, directora de Marketing y Comunicación de Fnac\, y Antonio Bauza\, director de Marketing y Comunicación de Barceló Hotel Group\, que hablarán sobre visibilidad\, liderazgo y employer branding\, compartiendo las estrategias y prácticas que les han permitido destacar en el ámbito digital. \nAprovecha esta oportunidad para aprender de los líderes del sector y potenciar tu presencia digital. ¡Ya puedes registrarte! \n\n  \nREGISTRO\n  \n\n\nCompártelo en tus RRSS:\n  \n\n
URL:https://www.asociacionmkt.es/evento/presentacion-panel-220-cmos/
LOCATION:Roca Gallery\, José Abascal\, 57\, Madrid\, Madrid\, 28003\, España
CATEGORIES:PRESENTACIONES (estudios, informes, libros...)
ATTACH;FMTTYPE=image/png:https://www.asociacionmkt.es/wp-content/uploads/2024/06/CREATIVIDAD_Ranking-Epsilon_web-825-x-353-px-1.png
GEO:40.4384009;-3.6931494
X-APPLE-STRUCTURED-LOCATION;VALUE=URI;X-ADDRESS=Roca Gallery José Abascal 57 Madrid Madrid 28003 España;X-APPLE-RADIUS=500;X-TITLE=José Abascal\, 57:geo:-3.6931494,40.4384009
END:VEVENT
END:VCALENDAR