BEGIN:VCALENDAR
VERSION:2.0
PRODID:-//MKT. Asociación de Marketing de España - ECPv4.9.14//NONSGML v1.0//EN
CALSCALE:GREGORIAN
METHOD:PUBLISH
X-WR-CALNAME:MKT. Asociación de Marketing de España
X-ORIGINAL-URL:https://www.asociacionmkt.es
X-WR-CALDESC:Eventos para MKT. Asociación de Marketing de España
BEGIN:VTIMEZONE
TZID:Europe/Madrid
BEGIN:DAYLIGHT
TZOFFSETFROM:+0100
TZOFFSETTO:+0200
TZNAME:CEST
DTSTART:20230326T010000
END:DAYLIGHT
BEGIN:STANDARD
TZOFFSETFROM:+0200
TZOFFSETTO:+0100
TZNAME:CET
DTSTART:20231029T010000
END:STANDARD
END:VTIMEZONE
BEGIN:VEVENT
DTSTART;TZID=Europe/Madrid:20230328T093000
DTEND;TZID=Europe/Madrid:20230328T103000
DTSTAMP:20260423T162455
CREATED:20230221T163050Z
LAST-MODIFIED:20230323T135023Z
UID:52501-1679995800-1679999400@www.asociacionmkt.es
SUMMARY:Presentación | V Estudio de Marketing Relacional
DESCRIPTION:Te invitamos a la presentación del V Estudio de Marketing Relacional\, elaborado por Mediapost\, que tendrá lugar el próximo 28 de marzo. ¡Inscríbete!\n  \nLa inflación\, hiperconectividad\, atracción al punto de venta\, fidelidad a la marca… son factores que mueven todo el plan de marketing y que hacen cada vez más complejo conectar con los consumidores. Para analizar este nuevo contexto\, el próximo 28 de marzo celebramos la presentación del V Estudio de Marketing Relacional\, elaborado por Mediapost\, en colaboración con Kantar y AMKT. \nBajo el título «Marcas y retailers conectando con el consumidor»\, el informe cuenta con la participación de más de 2000 consumidores\, que nos cuentan su relación con marcas y retailers: \n\nPor qué canal descubrieron una nueva marca\nBeneficios más buscados en un club de fidelización\nPromociones más deseadas\nExperiencia en punto de venta\n\nTe esperamos el 28 de marzo a las 9:30 en EAE Business School (C. del Príncipe de Vergara\, 156\, 28002 Madrid). \n  \nAGENDA \n09:00 – 09:30 | Recepción de asistentes \n09:30-09:35 Bienvenida \n\nVíctor Conde\, director general de AMKT\n\n09:35– 09:55 | Presentación del Estudio \n\nFrancisco Pla\, director de Marketing y Ventas\, y Desarrollo de Nuevo Negocio de Mediapost\n\n09:55 – 10:10 | Caso de éxito de Smartbox \n\nYago Martín\, Country Manager de Smartbox\n\n10:10 – 10:25| Caso de éxito de La Vaguada \n\nJesús Hernández\, subdirector del CC La Vaguada\n\n10:25 – 10:50 | Mesa redonda \n\nFrancisco Pla\nJesús Hernández\nModerador: Víctor Conde\n\n10:50 – 11:00 | Preguntas y cierre. Networking y desayuno. \n  \nREGISTRO\n  \nCompártelo en tus RRSS: \n
URL:https://www.asociacionmkt.es/evento/presentacion-v-estudio-de-marketing-relacional/
LOCATION:EAE Business School\, Calle Príncipe de Vergara\, 156\, Madrid\, 28002\, España
CATEGORIES:JORNADAS
ATTACH;FMTTYPE=image/png:https://www.asociacionmkt.es/wp-content/uploads/2023/02/Jornada_MarketingRelacional_web.png
GEO:40.4483587;-3.6774895
X-APPLE-STRUCTURED-LOCATION;VALUE=URI;X-ADDRESS=EAE Business School Calle Príncipe de Vergara 156 Madrid 28002 España;X-APPLE-RADIUS=500;X-TITLE=Calle Príncipe de Vergara\, 156:geo:-3.6774895,40.4483587
END:VEVENT
END:VCALENDAR