BEGIN:VCALENDAR
VERSION:2.0
PRODID:-//MKT. Asociación de Marketing de España - ECPv4.9.14//NONSGML v1.0//EN
CALSCALE:GREGORIAN
METHOD:PUBLISH
X-WR-CALNAME:MKT. Asociación de Marketing de España
X-ORIGINAL-URL:https://www.asociacionmkt.es
X-WR-CALDESC:Eventos para MKT. Asociación de Marketing de España
BEGIN:VTIMEZONE
TZID:Europe/Madrid
BEGIN:DAYLIGHT
TZOFFSETFROM:+0100
TZOFFSETTO:+0200
TZNAME:CEST
DTSTART:20160327T010000
END:DAYLIGHT
BEGIN:STANDARD
TZOFFSETFROM:+0200
TZOFFSETTO:+0100
TZNAME:CET
DTSTART:20161030T010000
END:STANDARD
END:VTIMEZONE
BEGIN:VEVENT
DTSTART;TZID=Europe/Madrid:20161020T090000
DTEND;TZID=Europe/Madrid:20161020T180000
DTSTAMP:20260424T004801
CREATED:20160728T084508Z
LAST-MODIFIED:20160728T084508Z
UID:11254-1476954000-1476986400@www.asociacionmkt.es
SUMMARY:PUREMOBILE 2016
DESCRIPTION:El Auditorio de La Mutua Madrileña (Madrid) acoge el próximo jueves 20 de octubre la edición 2016 de PureMobile\, el evento móvil del año\, donde anunciantes\, desarrolladores\, agencias\, consultoras\, operadores y profesionales\, tanto nacionales como internacionales\, compartirán conocimiento\, experiencias\, tendencias e innovación del mundo de la movilidad.\nEntre los múltiples temas que se abordarán durante el evento\, se encuentran: cómo se adaptan las empresas a un usuario cada vez más ubícuo; el comportamiento y las motivaciones en cuanto a consumo y compra del “movilnauta”; formas creativas de llegar al usuario; la seguridad de los datos con un experto en ciberseguridad; y lo que viene con la sensorización de todo\, donde estaremos conectados a todo lo que nos rodea.\nSegún MMA España\, organizadores de PureMobile 2016\, “este evento representa una ocasión excepcional de conocer las últimas tendencias en movilidad y casos de éxito de primera mano de marcas\, desarrolladores o innovadores en marketing móvil“. \nENTRADAS:\nDescuento para socios de MKT:\nAntes del 9 de octubre: 60 euros\nDespués del 9 de octubre: 80 euros\nSi eres socio\, solicita aquí tu código de descuento\n \nNo socios:\nAntes del 9 de octubre: 80 euros\nDespués del 9 de octubre: 100 euros\n \nENTRADAS A LA VENTA AQUÍ\n \nMás información en www.puremobile.es\n  \n
URL:https://www.asociacionmkt.es/evento/puremobile-2016/
LOCATION:Mutua Madrileña Madrid\, Paseo de la Castellana 33\, Madrid\, Madrid\, España
CATEGORIES:CONGRESOS
ATTACH;FMTTYPE=image/png:https://www.asociacionmkt.es/wp-content/uploads/2016/07/puremobile.png
ORGANIZER;CN="MMA":MAILTO:info@mmaspain.org
GEO:40.4324806;-3.6894577
X-APPLE-STRUCTURED-LOCATION;VALUE=URI;X-ADDRESS=Mutua Madrileña Madrid Paseo de la Castellana 33 Madrid Madrid España;X-APPLE-RADIUS=500;X-TITLE=Paseo de la Castellana 33:geo:-3.6894577,40.4324806
END:VEVENT
END:VCALENDAR