BEGIN:VCALENDAR
VERSION:2.0
PRODID:-//MKT. Asociación de Marketing de España - ECPv4.9.14//NONSGML v1.0//EN
CALSCALE:GREGORIAN
METHOD:PUBLISH
X-WR-CALNAME:MKT. Asociación de Marketing de España
X-ORIGINAL-URL:https://www.asociacionmkt.es
X-WR-CALDESC:Eventos para MKT. Asociación de Marketing de España
BEGIN:VTIMEZONE
TZID:Europe/Madrid
BEGIN:DAYLIGHT
TZOFFSETFROM:+0100
TZOFFSETTO:+0200
TZNAME:CEST
DTSTART:20260329T010000
END:DAYLIGHT
BEGIN:STANDARD
TZOFFSETFROM:+0200
TZOFFSETTO:+0100
TZNAME:CET
DTSTART:20261025T010000
END:STANDARD
END:VTIMEZONE
BEGIN:VEVENT
DTSTART;TZID=Europe/Madrid:20260219T093000
DTEND;TZID=Europe/Madrid:20260219T120000
DTSTAMP:20260423T232124
CREATED:20260122T132651Z
LAST-MODIFIED:20260217T145947Z
UID:79964-1771493400-1771502400@www.asociacionmkt.es
SUMMARY:Ranking de las marcas que lideran la atención digital en España
DESCRIPTION:\n\nDescubre las estrategias digitales que marcan la diferencia: claves para incrementar la cuota de atención digital\n\n\n\nLa Asociación de Marketing de España (AMKT) y Epsilon Technologies te invitan a una cita imprescindible para cualquier profesional del marketing digital. \nEn este evento exclusivo\, Epsilon Technologies\, nuestro socio empresa corporativo\, presentará el DAI Footprint 2025: Top-390 Marcas\, un estudio de referencia que analiza las 390 marcas líderes en España según su Cuota de Atención Digital (DAI). Este estudio de referencia cubre sectores clave como Gran Consumo\, Retail\, IBEX35\, Banca y Seguros\, proporcionando una visión completa del rendimiento digital de las principales marcas en España. \n¿Qué hace único al DAI Footprint 2025? Su innovador enfoque unifica en un único indicador la actividad de las marcas en siete ecosistemas digitales clave: redes sociales\, motores de búsqueda\, sitios web\, aplicaciones móviles\, paid media\, PR y social listening. Además del ranking de marcas con mayor relevancia\, el informe profundiza en las campañas y contenidos más efectivos\, identificando las estrategias que han logrado mayor engagement e impacto entre los usuarios a lo largo del año. Un análisis imprescindible para entender el presente y futuro del marketing digital en España. \nCerraremos la sesión con una mesa redonda con representantes de algunas de las marcas líderes en el ranking\, quienes compartirán su experiencia y estrategias digitales clave. \nLa jornada se celebrará el próximo 19 de febrero en Impact Hub Alameda. \nAGENDA DEL EVENTO: \n09:30 – 10:00 | Acreditación y café de bienvenida\n10:00 – 10:05 | Bienvenida institucional\nEnrique Arribas\, vicepresidente de la Asociación de Marketing de España\n10:05 – 10:35 | Presentación del DAI Footprint 2025\nDaniel Devai\, CEO de Epsilon Technologies\n10:35 – 11:20 | Mesa de debate \n\nSergio Vicente\, director de Comunicación y Marca de Leroy Merlin España\nMiriam Soriano\, Head of Digital Marketing de Dia\nCarlos Fernández Guerra\, director Digital & Social Media en Iberdrola.\n\n11:20 – 11:35 | Turno de preguntas de los asistentes\n11:35 – 11:40 | Cierre de sesión\n11:40 – 12:00 | Café y networking \nEvento presencial exclusivo para socios de AMKT. Accede al área de socios para inscribirte. \nÁREA DE SOCIOS\nPlazas limitadas. ¡No te quedes fuera! \nSi no eres socio de AMKT\, y estás interesado en asistir a la presentación del estudio\, contacta con nosotros en info@asociacionmkt.es \n\n
URL:https://www.asociacionmkt.es/evento/ranking-de-las-marcas-que-lideran-la-atencion-digital-en-espana/
LOCATION:Impact Hub Alameda\, Calle Alameda\, 22\, Madrid\, Madrid\, 28014\, España
CATEGORIES:PRESENTACIONES (estudios, informes, libros...)
ATTACH;FMTTYPE=image/png:https://www.asociacionmkt.es/wp-content/uploads/2026/01/DAI-Web.png
GEO:40.4114712;-3.6941955
X-APPLE-STRUCTURED-LOCATION;VALUE=URI;X-ADDRESS=Impact Hub Alameda Calle Alameda 22 Madrid Madrid 28014 España;X-APPLE-RADIUS=500;X-TITLE=Calle Alameda\, 22:geo:-3.6941955,40.4114712
END:VEVENT
END:VCALENDAR