BEGIN:VCALENDAR
VERSION:2.0
PRODID:-//MKT. Asociación de Marketing de España - ECPv4.9.14//NONSGML v1.0//EN
CALSCALE:GREGORIAN
METHOD:PUBLISH
X-WR-CALNAME:MKT. Asociación de Marketing de España
X-ORIGINAL-URL:https://www.asociacionmkt.es
X-WR-CALDESC:Eventos para MKT. Asociación de Marketing de España
BEGIN:VTIMEZONE
TZID:Europe/Madrid
BEGIN:DAYLIGHT
TZOFFSETFROM:+0100
TZOFFSETTO:+0200
TZNAME:CEST
DTSTART:20160327T010000
END:DAYLIGHT
BEGIN:STANDARD
TZOFFSETFROM:+0200
TZOFFSETTO:+0100
TZNAME:CET
DTSTART:20161030T010000
END:STANDARD
END:VTIMEZONE
BEGIN:VEVENT
DTSTART;TZID=Europe/Madrid:20160518T083000
DTEND;TZID=Europe/Madrid:20160518T140000
DTSTAMP:20260424T221036
CREATED:20160511T102518Z
LAST-MODIFIED:20160511T102518Z
UID:10417-1463560200-1463580000@www.asociacionmkt.es
SUMMARY:¿SE HABLA ESPAÑOL EN PUBLICIDAD?
DESCRIPTION:La Real Academia Española y la Academia de la Publicidad celebran su primer acto conjunto tras su firma del convenio de colaboración el año pasado\, la Jornada ¿Se habla español en la publicidad?\, que será el próximo 18 de mayo en el Salón de Actos de la RAE.\nEl español está amenazado seriamente por la invasión del inglés y la publicidad es una de las principales vías para facilitar esa colonización. Por esta razón\, la RAE y la Academia de la Publicidad quieren crear conciencia alrededor de este problema entre publicitarios\, empresas y sociedad en general. Además\, aprovechando el encuentro se realizará una campaña de publicidad sobre el tema en todos los medios.\nEl programa es el siguiente (pincha sobre la imagen para ampliar):\n\nSe invita a toda la gente del sector publicitario\, de comunicación\, y docente a las jornadas y que se corra la voz a todas aquellas personas a las que les pueda resultar interesante la asistencia. \nPara asistir solo tienes que confirmar tu asistencia escribiendo un email a jornadarae@academiadelapublicidad.org\n
URL:https://www.asociacionmkt.es/evento/se-habla-espanol-publicidad/
LOCATION:Real Academia Española\, C/ Felipe IV\, 4\, Madrid\, Madrid\, España
ATTACH;FMTTYPE=image/png:https://www.asociacionmkt.es/wp-content/uploads/2016/05/se-habla-espanol.png
GEO:40.4152123;-3.6910971
X-APPLE-STRUCTURED-LOCATION;VALUE=URI;X-ADDRESS=Real Academia Española C/ Felipe IV 4 Madrid Madrid España;X-APPLE-RADIUS=500;X-TITLE=C/ Felipe IV\, 4:geo:-3.6910971,40.4152123
END:VEVENT
END:VCALENDAR