BEGIN:VCALENDAR
VERSION:2.0
PRODID:-//MKT. Asociación de Marketing de España - ECPv4.9.14//NONSGML v1.0//EN
CALSCALE:GREGORIAN
METHOD:PUBLISH
X-WR-CALNAME:MKT. Asociación de Marketing de España
X-ORIGINAL-URL:https://www.asociacionmkt.es
X-WR-CALDESC:Eventos para MKT. Asociación de Marketing de España
BEGIN:VTIMEZONE
TZID:Europe/Madrid
BEGIN:DAYLIGHT
TZOFFSETFROM:+0100
TZOFFSETTO:+0200
TZNAME:CEST
DTSTART:20260329T010000
END:DAYLIGHT
BEGIN:STANDARD
TZOFFSETFROM:+0200
TZOFFSETTO:+0100
TZNAME:CET
DTSTART:20261025T010000
END:STANDARD
END:VTIMEZONE
BEGIN:VEVENT
DTSTART;TZID=Europe/Madrid:20260127T093000
DTEND;TZID=Europe/Madrid:20260127T113000
DTSTAMP:20260424T040227
CREATED:20251204T094452Z
LAST-MODIFIED:20260209T100259Z
UID:78471-1769506200-1769513400@www.asociacionmkt.es
SUMMARY:Taller | Reputación y Autenticidad de las Marcas
DESCRIPTION:Taller exclusivo para  directores y líderes de marketing socios de AMKT\, donde compartiremos las conclusiones clave del reciente estudio de nuestro socio OmnicomPRGroup\nPara que todos nuestros socios tengan la oportunidad de asistir\, hemos decidido reprogramar este taller clave\, exclusivo para socios de AMKT y dirigido a directores y líderes de marketing. \nBajo el título «Reputación y Autenticidad de las Marcas»\, el workshop compartirá las principales conclusiones del reciente estudio elaborado por nuestro socio OmnicomPRGroup\, ofreciendo claves prácticas y reflexiones estratégicas para el contexto actual de las marcas. \nHoy impera ser una marca auténtica\, pero lo decisivo es cómo te perciben tus públicos. ¿Dónde están tus brechas de autenticidad?; ¿las mides?; ¿qué distancia existe entre expectativas y experiencias reales del consumidor? \nQué te llevarás: \n\nUn framework práctico: el journey de la Autenticidad para construir marcas confiables.\nCasos reales aplicables a cualquier compañía y sector.\nPalancas para identificar brechas de autenticidad.\nClaves para crear cultura\, conexión y comunidad que conviertan de forma sostenida.\n\nSerá un encuentro pensado para directores y líderes de marketing que buscan alinear propósito\, experiencia y performance\, generando impacto real tanto en el negocio como en la reputación de sus marcas. \nFecha: 27 de enero de 2025 \nHora: 9:30 a 11:30 \nLugar: Oficinas OmnicomPRGroup (Calle Mesena 22. 3ªplanta) \nLas plazas son limitadas. ¡Inscríbete cuando antes! Este evento de marketing es exclusivo para socios de AMKT. Si quieres registrarte hazlo desde tu área privada de socios. \nY\, si quieres más información\, no dudes en contactarnos\, bien a través del correo electrónico atencionalsocio@asociacionmkt.es o en el teléfono +34 91 548 49 15 \n  \nÁREA DE SOCIOS\n  \n¿Quieres asistir a este y otros eventos y formar parte de la mayor comunidad de marketing? Mándanos un email a info@asociacionmkt.es \n\n  \n  \n
URL:https://www.asociacionmkt.es/evento/taller-reputacion-y-autenticidad-de-las-marcas/
LOCATION:Oficinas Omnicom\, C/ Mesena 22. 3ªplanta\, Madrid\, Madrid\, España
CATEGORIES:WORKSHOP
ATTACH;FMTTYPE=image/jpeg:https://www.asociacionmkt.es/wp-content/uploads/2025/12/Omnicom_Web_Nueva-fecha_825x353.jpg
GEO:40.4632349;-3.6614359
X-APPLE-STRUCTURED-LOCATION;VALUE=URI;X-ADDRESS=Oficinas Omnicom C/ Mesena 22. 3ªplanta Madrid Madrid España;X-APPLE-RADIUS=500;X-TITLE=C/ Mesena 22. 3ªplanta:geo:-3.6614359,40.4632349
END:VEVENT
END:VCALENDAR