BEGIN:VCALENDAR
VERSION:2.0
PRODID:-//MKT. Asociación de Marketing de España - ECPv4.9.14//NONSGML v1.0//EN
CALSCALE:GREGORIAN
METHOD:PUBLISH
X-WR-CALNAME:MKT. Asociación de Marketing de España
X-ORIGINAL-URL:https://www.asociacionmkt.es
X-WR-CALDESC:Eventos para MKT. Asociación de Marketing de España
BEGIN:VTIMEZONE
TZID:Europe/Madrid
BEGIN:DAYLIGHT
TZOFFSETFROM:+0100
TZOFFSETTO:+0200
TZNAME:CEST
DTSTART:20170326T010000
END:DAYLIGHT
BEGIN:STANDARD
TZOFFSETFROM:+0200
TZOFFSETTO:+0100
TZNAME:CET
DTSTART:20171029T010000
END:STANDARD
END:VTIMEZONE
BEGIN:VEVENT
DTSTART;TZID=Europe/Madrid:20171122T090000
DTEND;TZID=Europe/Madrid:20171122T200000
DTSTAMP:20260423T190427
CREATED:20171004T140749Z
LAST-MODIFIED:20171004T140749Z
UID:14656-1511341200-1511380800@www.asociacionmkt.es
SUMMARY:Tech Experience Conference Barcelona
DESCRIPTION:La sexta edición de Tech Experience Conference llega a Barcelona el 22 de noviembre con el propósito de organizar una jornada en la que primen las conferencias creativas y de calidad. Un evento en el que el networking con ejecutivos de grandes empresas y los CEOs de las Startups más punteras será el colofón a un día dedicado a la innovación en todos los ámbitos.\nTecnología\, marketing digital\, liderazgo y neuromarketing son los temas que engloban las diferentes ponencias en las que se podrá aprender\, entre otras cosas\, sobre learning machine\, inteligencia artificial\, innovación tecnológica\, transformación digital\, chat bots\, startups e influencers.\nEl toque solidario corre a cargo de la Fundación Click That Matters que recauda fondos para llevar conocimientos de marketing tecnología a ONG’s y entidades sin recursos. Por cada entrada vendida\, la agencia InfiniteVent Experience donará un mínimo de 5€ a la entidad.\nEntre los ponentes en Tech Experience Conference destacan Conrad Llorens y Fernando Le Monier\, socios fundadores de SUMMA\, el consultor de marketing online\, Joan Boluda o Elena Martin Guerra\, fundadora de SocioGraph. \nMás información y entradas\nLos socios de la Asociación de Marketing cuentan con un 20% de descuento en el precio de la entrada.\nSi eres socio de MKT\, solicita aquí tu código\nMás información y venta de entradas aquí\n  \n
URL:https://www.asociacionmkt.es/evento/tech-experience-conference-bcn/
LOCATION:Antigua Fábrica Estrella Damm\,  Carrer del Rosselló\, 515\, Barcelona\, Cataluña\, 08025\, España
CATEGORIES:CONFERENCIAS
ATTACH;FMTTYPE=image/png:https://www.asociacionmkt.es/wp-content/uploads/2017/10/TechBarcelona-2017-banner.png
ORGANIZER;CN="Infinite%20Event%20Experience":MAILTO:info@infiniteventexperience.com
GEO:41.4090519;2.1780787
X-APPLE-STRUCTURED-LOCATION;VALUE=URI;X-ADDRESS=Antigua Fábrica Estrella Damm  Carrer del Rosselló 515 Barcelona Cataluña 08025 España;X-APPLE-RADIUS=500;X-TITLE=Carrer del Rosselló\, 515:geo:2.1780787,41.4090519
END:VEVENT
END:VCALENDAR