BEGIN:VCALENDAR
VERSION:2.0
PRODID:-//MKT. Asociación de Marketing de España - ECPv4.9.14//NONSGML v1.0//EN
CALSCALE:GREGORIAN
METHOD:PUBLISH
X-WR-CALNAME:MKT. Asociación de Marketing de España
X-ORIGINAL-URL:https://www.asociacionmkt.es
X-WR-CALDESC:Eventos para MKT. Asociación de Marketing de España
BEGIN:VTIMEZONE
TZID:Europe/Madrid
BEGIN:DAYLIGHT
TZOFFSETFROM:+0100
TZOFFSETTO:+0200
TZNAME:CEST
DTSTART:20150329T010000
END:DAYLIGHT
BEGIN:STANDARD
TZOFFSETFROM:+0200
TZOFFSETTO:+0100
TZNAME:CET
DTSTART:20151025T010000
END:STANDARD
END:VTIMEZONE
BEGIN:VEVENT
DTSTART;TZID=Europe/Madrid:20151030T090000
DTEND;TZID=Europe/Madrid:20151030T190000
DTSTAMP:20260423T211441
CREATED:20151008T084053Z
LAST-MODIFIED:20200427T105043Z
UID:7929-1446195600-1446231600@www.asociacionmkt.es
SUMMARY:Tech Experience Conference
DESCRIPTION:Un congreso de tecnología que rompe con todos los estándares de los eventos a los que hayas asistido antes. #TECbcn nace para ofrecer un nuevo formato donde los asistentes vivirán una experiencia que les inspirará para crear nuevos proyectos el lunes siguiente cuando regresen a sus oficinas. \nDatos generales del evento:\n\nTemática: Internet of Things\, tecnología y marketing digital\nFecha y Lugar: Antigua Fábrica Estrella Damm (Barcelona) el día 30 de octubre de 9am a 7pm. Fiesta del evento empieza a las 11pm (Lugar aún por desvelar)\nDirección del venue: Carrer del Rosselló\, 515\, 08025 Barcelona\nTarget asistentes: CEOs de startups\, dir.mkt de agencias y grandes compañías\, influencers\, medios de comunicación y prensa\nNumero de asistentes: 300pax\n\n¿Qué es Tech Experience Conference\nEl Tech Experience Conference es un evento de tecnología que celebrará su primera edición en España el 30 de octubre en la Antigua Fábrica Damm.\nLos panelistas del congreso incluyen CEO’s de startups\, directores de marketing de grandes empresas\, influencers y business angels de diferentes países.\nLas conferencias serán una experiencia única para conectar y aprender sobre Internet Of Things\, Technology y marketing digital de la mano de ponentes internacionales y gurús de la industria.\nAdemás se realizará una competición de diferentes startups dónde tendrán que hacer su elevator speech ante toda la audiencia y serán valoradas por un jurado de business angels y profesionales del sector.\nTech Experience Conference es un lugar donde los asistentes podrán descubrir nuevos gadgets tecnológicos e inspirarse para crear nuevas experiencias que generen un mayor engagement para sus clientes a través de la tecnología.\nEl objetivo de la fundadora de #TECbcn\, Gladys Cali\, es realizar diferentes ediciones cada año en una ciudad distinta. La siguiente edición será en Los Angeles en el otoño de 2016.\nEl primer acto contará con speakers de renombre como:\nGladys Cali\, CEO Infinit Event Experience\nAntonio Rodríguez Perales\, Cloud Sales Manager for Spain\, Greece and Israel at IBM\nJoaquim Pinto\, Marketing Manager at Padcelona\nAdrian Arias\, Marketing Manager at Linkedin\nEsteve Almirall\, Director Center for Innovation in Cities @ESADE\nMarc Pous\, CEO & Internet of Things Advocate @thetings.iO\nJose Caballer\, CEO of Skool\nDaniel Marote\, Founder Hydra Social Media.\nJordi Blanco\, Director at Sekg\nEdgar Sánchez\, Neuromarketing Consultant\nGracias a Padcelona\, en el check in se facilitará un iPad a cada asistente\, donde cada asistente tendrá que hacerse un selfie\, poner su empresa y su posición\, y esto servirá para entrar a formar parte de un chat y social media timeline privado sólo para los asistentes del evento.\nCon esta tecnología se creará un icebreaker para facilitar el networking entre los asistentes y crear una comunidad tech. Asímismo\, también se realizarán una serie de actividades de gamificación con estos iPads para cambiar la experiencia de los asistentes. Además con el iPad se podrán seguir las presentaciones de los ponentes y para aquellos que son más tímidos\, se podrán enviar preguntas remotamente a los ponentes. \nDescuento para socios de MKT\nLos 20 primeros socios de MKT que se registren tendrán un descuento del 20% sobre el precio de inscripción. Para conseguir este descuento\, escríbenos un correo a gerencia@asociacionmkt.es y te facilitaremos un código de descuento que deberás incluir en la plataforma de Eventbrite. ¡Date prisa! \n
URL:https://www.asociacionmkt.es/evento/tech-experience-conference/
LOCATION:Antigua Fábrica Estrella Damm\,  Carrer del Rosselló\, 515\, Barcelona\, Cataluña\, 08025\, España
CATEGORIES:CONGRESOS
ATTACH;FMTTYPE=image/jpeg:https://www.asociacionmkt.es/wp-content/uploads/2015/10/TECbanner.jpg
ORGANIZER;CN="Infinite%20Event%20Experience":MAILTO:info@infiniteventexperience.com
GEO:41.4090519;2.1780787
X-APPLE-STRUCTURED-LOCATION;VALUE=URI;X-ADDRESS=Antigua Fábrica Estrella Damm  Carrer del Rosselló 515 Barcelona Cataluña 08025 España;X-APPLE-RADIUS=500;X-TITLE=Carrer del Rosselló\, 515:geo:2.1780787,41.4090519
END:VEVENT
END:VCALENDAR