BEGIN:VCALENDAR
VERSION:2.0
PRODID:-//MKT. Asociación de Marketing de España - ECPv4.9.14//NONSGML v1.0//EN
CALSCALE:GREGORIAN
METHOD:PUBLISH
X-WR-CALNAME:MKT. Asociación de Marketing de España
X-ORIGINAL-URL:https://www.asociacionmkt.es
X-WR-CALDESC:Eventos para MKT. Asociación de Marketing de España
BEGIN:VTIMEZONE
TZID:Europe/Madrid
BEGIN:DAYLIGHT
TZOFFSETFROM:+0100
TZOFFSETTO:+0200
TZNAME:CEST
DTSTART:20170326T010000
END:DAYLIGHT
BEGIN:STANDARD
TZOFFSETFROM:+0200
TZOFFSETTO:+0100
TZNAME:CET
DTSTART:20171029T010000
END:STANDARD
END:VTIMEZONE
BEGIN:VEVENT
DTSTART;TZID=Europe/Madrid:20170317T090000
DTEND;TZID=Europe/Madrid:20170317T190000
DTSTAMP:20260424T023148
CREATED:20170301T120816Z
LAST-MODIFIED:20170301T120816Z
UID:13218-1489741200-1489777200@www.asociacionmkt.es
SUMMARY:The Inbounder World Tour 2017: Madrid
DESCRIPTION:¡El mayor tour de eventos sobre marketing digital se acerca a tu ciudad! The Inbounder World Tour aterrizará en Madrid el 17 de marzo para celebrar una serie de conferencias en las que se tratarán algunas de las disciplinas de marketing digital que suponen un desafío para las empresas. Una oportunidad perfecta para aprender\, descubrir nuevas oportunidades y establecer nuevos contactos. \nEn 2017 la nave The Inbounder no aterriza\, sigue en órbita viajando por Madrid\, Londres\, Nueva York y Milán dando a conocer su filosofía y su marca. En las conferencias participarán reconocidos expertos en marketing y comunicación digital que compartirán con los asistentes su conocimiento y experiencia. \n\nMás información y programa\n  \nEntradas:\nLas entradas ya están a la venta y cuentan con un 30% de descuento para los socios de MKT.\nSi eres socio de MKT\, solicita aquí tu código de descuento\n \nENTRADAS A LA VENTA AQUÍ \n
URL:https://www.asociacionmkt.es/evento/the-inbounder-world-tour-madrid/
LOCATION:Meeu\, Estación de Chamartín\, Madrid\, Madrid\, 28036 \, España
CATEGORIES:CONFERENCIAS
ATTACH;FMTTYPE=image/jpeg:https://www.asociacionmkt.es/wp-content/uploads/2017/03/theinbounder-World-tour-Madrid-evento.jpg
GEO:40.4714518;-3.6817384
X-APPLE-STRUCTURED-LOCATION;VALUE=URI;X-ADDRESS=Meeu Estación de Chamartín Madrid Madrid 28036  España;X-APPLE-RADIUS=500;X-TITLE=Estación de Chamartín:geo:-3.6817384,40.4714518
END:VEVENT
END:VCALENDAR