BEGIN:VCALENDAR
VERSION:2.0
PRODID:-//MKT. Asociación de Marketing de España - ECPv4.9.14//NONSGML v1.0//EN
CALSCALE:GREGORIAN
METHOD:PUBLISH
X-WR-CALNAME:MKT. Asociación de Marketing de España
X-ORIGINAL-URL:https://www.asociacionmkt.es
X-WR-CALDESC:Eventos para MKT. Asociación de Marketing de España
BEGIN:VTIMEZONE
TZID:Europe/Madrid
BEGIN:DAYLIGHT
TZOFFSETFROM:+0100
TZOFFSETTO:+0200
TZNAME:CEST
DTSTART:20200329T010000
END:DAYLIGHT
BEGIN:STANDARD
TZOFFSETFROM:+0200
TZOFFSETTO:+0100
TZNAME:CET
DTSTART:20201025T010000
END:STANDARD
END:VTIMEZONE
BEGIN:VEVENT
DTSTART;TZID=Europe/Madrid:20200520T120000
DTEND;TZID=Europe/Madrid:20200520T124500
DTSTAMP:20260425T021751
CREATED:20200424T114801Z
LAST-MODIFIED:20200428T094336Z
UID:31698-1589976000-1589978700@www.asociacionmkt.es
SUMMARY:WEBINAR | CERRAR LA BRECHA ENTRE LAS VENTAS Y EL MARKETING
DESCRIPTION:Los clientes quieren relacionarse con las marcas de forma que cubran sus necesidades de una manera ágil y útil para ellos. Este nuevo reto se ha convertido en un factor estratégico donde las marcas tienen que reinventarse y personalizar sus acciones.  \nPor ello\, desde la Asociación de Marketing de España colaboramos junto a Adobe\, en la organización de una serie de charlas online en las que algunos de los mejores profesionales del sector podrán compartir su experiencia y conocimiento. Durante estos webinars enfocados en la experiencia del cliente\, podrás conocer las mejores prácticas y experiencias de distintas empresas españolas\, escuchar a expertos de Adobe y descubrir cómo dan respuesta a los retos que se presentan ante la transformación digital de las empresas. \nCerrar la brecha entre las ventas y el marketing\nExisten diferencias entre el departamentos de ventas y el de marketing a la hora de cómo transformar a los clientes potenciales. En este webinar podrás aprender junto a Edgardo Salinas y Carlos Duez a crear un puente entre ambos departamentos para trabajar hacia el mismo objetivo. \n> Inscríbete de manera gratuita\nPróximos Adobe Experience Webinar:\n>10 cosas que no sabías de Adobe Target \n> Adobe Experience Platform: más allá del CPD \n
URL:https://www.asociacionmkt.es/evento/webinar-cerrar-la-brecha-entre-las-ventas-y-el-marketing/
LOCATION:Madrid\, Madrid\, España
CATEGORIES:FORMACION
ATTACH;FMTTYPE=image/jpeg:https://www.asociacionmkt.es/wp-content/uploads/2020/04/AssoMKT_WebExperience_newsletter-825x353-4.jpg
GEO:40.4167754;-3.7037902
END:VEVENT
END:VCALENDAR