BEGIN:VCALENDAR
VERSION:2.0
PRODID:-//MKT. Asociación de Marketing de España - ECPv4.9.14//NONSGML v1.0//EN
CALSCALE:GREGORIAN
METHOD:PUBLISH
X-WR-CALNAME:MKT. Asociación de Marketing de España
X-ORIGINAL-URL:https://www.asociacionmkt.es
X-WR-CALDESC:Eventos para MKT. Asociación de Marketing de España
BEGIN:VTIMEZONE
TZID:Europe/Madrid
BEGIN:DAYLIGHT
TZOFFSETFROM:+0100
TZOFFSETTO:+0200
TZNAME:CEST
DTSTART:20200329T010000
END:DAYLIGHT
BEGIN:STANDARD
TZOFFSETFROM:+0200
TZOFFSETTO:+0100
TZNAME:CET
DTSTART:20201025T010000
END:STANDARD
END:VTIMEZONE
BEGIN:VEVENT
DTSTART;TZID=Europe/Madrid:20200602T140000
DTEND;TZID=Europe/Madrid:20200602T150000
DTSTAMP:20260425T015446
CREATED:20200520T101958Z
LAST-MODIFIED:20200526T135752Z
UID:32670-1591106400-1591110000@www.asociacionmkt.es
SUMMARY:WEBINAR | Iniciativas y enfoques en marketing deportivo
DESCRIPTION:El impacto de los daños colaterales del Covid-19 en un sector que aporta el 2\,12 % del PIB en la Unión Europea y un 2\,72 % de sus empleos es desigual atendiendo a los stakeholders que se consideren. Esta realidad genera el surgimiento de retos y amenazas\, pero también hace que afloren muchas oportunidades. \nLa necesaria adaptación a la «nueva normalidad» es y será una realidad. Por ello\, desde el Comité de Marketing Deportivo de MKT\, queremos compartir con todos los profesionales la manera en la que afrontan el presente y el futuro distintas empresas y entidades del sector\, en un nuevo webinar que tendrá lugar el próximo 2 de junio a las 14:00: Iniciativas y enfoques en marketing deportivo en la «nueva normalidad». \n\nAGENDA\n  \n\n14:00 – 14:05 Bienvenida\n14:05 – 14:10 Introducción\n\nCarlos Cantó\, CEO de SPSG Consulting y vocal de MKT\n\n\n\n\n14:10 – 14:30 Presentación general de los panelistas\, sus empresas e iniciativas y la forma en la que afrontan la situación actual\n\nMario Bayarri\, director de LaLiga TV Bar\nFernando Carpena\, presidente de la Real Federación Española de Natación\nLuis Gómez\, miembro del Consejo Asesor Deporte Español y asesor de Presidencia en Iberdrola\nPatricia Rodríguez\, CEO de Elche CF SAD\nNacho Trujillo\, fundador y CEO de OWQLO\n\n\n\n\n14:30 – 14:50 Mesa de debate\n\n\n14:50 – 15:00 Preguntas de la audiencia\n15:00 – 15:05 Conclusión y clausura\n\n\n> Inscríbete aquí de manera gratuita \n
URL:https://www.asociacionmkt.es/evento/webinar-iniciativas-enfoques-en-marketing-deportivo/
LOCATION:Online vía Streaming
CATEGORIES:CONFERENCIAS
ATTACH;FMTTYPE=image/png:https://www.asociacionmkt.es/wp-content/uploads/2020/05/Webinar_MKTDeporte_2junio_Evento-1.png
END:VEVENT
END:VCALENDAR