BEGIN:VCALENDAR
VERSION:2.0
PRODID:-//MKT. Asociación de Marketing de España - ECPv4.9.14//NONSGML v1.0//EN
CALSCALE:GREGORIAN
METHOD:PUBLISH
X-WR-CALNAME:MKT. Asociación de Marketing de España
X-ORIGINAL-URL:https://www.asociacionmkt.es
X-WR-CALDESC:Eventos para MKT. Asociación de Marketing de España
BEGIN:VTIMEZONE
TZID:Europe/Madrid
BEGIN:DAYLIGHT
TZOFFSETFROM:+0100
TZOFFSETTO:+0200
TZNAME:CEST
DTSTART:20230326T010000
END:DAYLIGHT
BEGIN:STANDARD
TZOFFSETFROM:+0200
TZOFFSETTO:+0100
TZNAME:CET
DTSTART:20231029T010000
END:STANDARD
END:VTIMEZONE
BEGIN:VEVENT
DTSTART;TZID=Europe/Madrid:20230426T093000
DTEND;TZID=Europe/Madrid:20230426T103000
DTSTAMP:20260424T234436
CREATED:20230411T081021Z
LAST-MODIFIED:20230424T104419Z
UID:53094-1682501400-1682505000@www.asociacionmkt.es
SUMMARY:Webinar | «Los beneficios del branded podcast para una marca: caso de éxito "Escapa Podcast"»
DESCRIPTION:Descubre el potencial del branded podcast el próximo 26 de abril en un webinar de la productora de podcasting Abbcast.\nSin duda\, la industria del podcast está en alza\, con un mercado que presenta muchas oportunidades. Para analizar todo su potencial\, nuestros socios de Abbcast\, productora de podcasting con más de 15 años de experiencia en el sector\, celebrarán un webinar el próximo 26 de abril. Bajo el título «Los beneficios del branded podcast para una marca: caso de éxito “Escapa Podcast”»\, hablaremos sobre el branded podcast y cómo este formato puede convertirse en un nuevo altavoz comunicativo con el que elevar tu marca a otro nivel. \nDurante la sesión\, profundizaremos en el caso de éxito del podcast de la marca Escapa\, empresa líder del sector del ciclismo en España\, bajo el título «Escapa Podcast». Con este proyecto han conseguido mantener su ventaja competitiva al margen de la saturación informativa y de venta que presenta el contexto actual\, situándose en uno de los podcast más escuchados de España en su categoría. \nPara ello\, contaremos con María Sirvent\, directora de Marketing de Escapa\, y Mar Jiménez\, responsable de cuentas y RRPP de Abbcast. \nDescubre cómo el branded podcast afianza a una marca y le da la posibilidad de crear una comunidad que propicia el salto del concepto cliente al de audiencia. ¡Te esperamos! \n  \nREGISTRO\n  \n  \nY recuerda que\, como parte de nuestro partnership con Abbcast\, todos los socios de AMKT tiene un 40 % de descuento en sus servicios. Toda la información aquí: \n  \nDescuento Abbcast\n  \nMuy pronto todos los detalles sobre la jornada. \n  \nCompártelo en tus RRSS: \n
URL:https://www.asociacionmkt.es/evento/webinar-los-beneficios-del-branded-podcast-para-una-marca/
LOCATION:Madrid\, Madrid\, España
CATEGORIES:WEBINAR
ATTACH;FMTTYPE=image/png:https://www.asociacionmkt.es/wp-content/uploads/2023/04/AMKT_Webinar_Abbcast_26abril_web-1.png
GEO:40.4167754;-3.7037902
END:VEVENT
END:VCALENDAR