BEGIN:VCALENDAR
VERSION:2.0
PRODID:-//MKT. Asociación de Marketing de España - ECPv4.9.14//NONSGML v1.0//EN
CALSCALE:GREGORIAN
METHOD:PUBLISH
X-WR-CALNAME:MKT. Asociación de Marketing de España
X-ORIGINAL-URL:https://www.asociacionmkt.es
X-WR-CALDESC:Eventos para MKT. Asociación de Marketing de España
BEGIN:VTIMEZONE
TZID:Europe/Madrid
BEGIN:DAYLIGHT
TZOFFSETFROM:+0100
TZOFFSETTO:+0200
TZNAME:CEST
DTSTART:20210328T010000
END:DAYLIGHT
BEGIN:STANDARD
TZOFFSETFROM:+0200
TZOFFSETTO:+0100
TZNAME:CET
DTSTART:20211031T010000
END:STANDARD
END:VTIMEZONE
BEGIN:VEVENT
DTSTART;TZID=Europe/Madrid:20211021T093000
DTEND;TZID=Europe/Madrid:20211021T103000
DTSTAMP:20260424T010230
CREATED:20211008T085118Z
LAST-MODIFIED:20211018T142455Z
UID:40416-1634808600-1634812200@www.asociacionmkt.es
SUMMARY:Webinar | Marketing en los Juegos Olímpicos y Paralímpicos
DESCRIPTION:Nuestro Comité de Marketing Deportivo celebrará un nuevo webinar el próximo 21 de octubre de 9:30 A 10:30\, en el que analizará los retos que se presentaron y se presentarán en los Juegos Olímpicos y los Juegos Paralímpicos de Tokio 2020\, Pekín 2022 y París 2024. En ambos Juegos\, los representantes españoles tuvieron un papel muy destacado y desde el punto de vista del marketing\, ambas competiciones tuvieron notorios retos\, tanto para las properties (comités\, federaciones\, deportistas\, etc.) como para los patrocinadores. \n  \nAGENDA\n\n9:30 | Bienvenida \n9:35 | Introducción \n\nCarlos Cantó\, vocal en la Asociación de Marketing de España y CEO en SPSG Consulting\n\n9:40 | Mesa de debate \n\nJosé Antonio Fernández\, director general en la Asociación de Deportes Olímpicos (ADO)\nSusana Gaytán\, directora adjunta del Comité Paralímpico Español\nManuel Parga\, director de Marketing del Comité Olímpico Español\nRay Zapata\, medallista olímpico en gimnasia en Tokio 2020\n\nModerador: Carlos Cantó \n10:30 | Cierre \n  \n>Ya puedes registrarte aquí \n  \n
URL:https://www.asociacionmkt.es/evento/webinar-marketing-en-lo-juegos-olimpicos-y-paralimpicos/
LOCATION:Madrid\, Madrid\, España
CATEGORIES:JORNADAS
ATTACH;FMTTYPE=image/jpeg:https://www.asociacionmkt.es/wp-content/uploads/2021/10/Webinar_MKTDeporte_21oct_web-825x353px.jpg
GEO:40.4167754;-3.7037902
END:VEVENT
END:VCALENDAR