BEGIN:VCALENDAR
VERSION:2.0
PRODID:-//MKT. Asociación de Marketing de España - ECPv4.9.14//NONSGML v1.0//EN
CALSCALE:GREGORIAN
METHOD:PUBLISH
X-WR-CALNAME:MKT. Asociación de Marketing de España
X-ORIGINAL-URL:https://www.asociacionmkt.es
X-WR-CALDESC:Eventos para MKT. Asociación de Marketing de España
BEGIN:VTIMEZONE
TZID:Europe/Madrid
BEGIN:DAYLIGHT
TZOFFSETFROM:+0100
TZOFFSETTO:+0200
TZNAME:CEST
DTSTART:20200329T010000
END:DAYLIGHT
BEGIN:STANDARD
TZOFFSETFROM:+0200
TZOFFSETTO:+0100
TZNAME:CET
DTSTART:20201025T010000
END:STANDARD
END:VTIMEZONE
BEGIN:VEVENT
DTSTART;TZID=Europe/Madrid:20200325T141500
DTEND;TZID=Europe/Madrid:20200325T151500
DTSTAMP:20260424T010138
CREATED:20200227T162703Z
LAST-MODIFIED:20200309T162130Z
UID:30185-1585145700-1585149300@www.asociacionmkt.es
SUMMARY:WEBINAR #MKTDEPORTE: LOS RETOS DEL FÚTBOL LATINOAMERICANO
DESCRIPTION:Aunque el fútbol es un deporte global y el más popular a nivel mundial\, hay elementos que lo diferencian\, tanto a nivel geográfico como desde el punto de vista del marketing deportivo. \n¿Cuáles son las estrategias de marketing de las grandes properties en el fútbol sudamericano? ¿Cuáles son las principales diferencias con España en relación con el patrocinio? ¿Cómo se desarrolla la marca en el fútbol de Latinoamérica? ¿Cuáles son los principales retos que tiene el fútbol latinoamericano desde el punto de vista del marketing deportivo? \nEstos y otros temas serán tratados en un nuevo webinar del Comité de Marketing Deportivo de la Asociación de Marketing de España\, en el que participarán: \n– Mariano Elizondo: presidente en Superliga de Fútbol de Argentina \n– Roberto Martínez Álvarez: miembro de la Comisión Directiva en Racing Club Avellaneda (Argentina) \n– María Barberá: Head of Marketing & Sales en FCDiez Media/Conmebol \nModerador: \nCarlos Cantó: CEO en SPSG Consulting y vocal en la Asociación de Marketing de España \nEl webinar tendrá lugar el 25 de marzo de 2020 de 14:15 a 15:15 (hora de Madrid)\, y contará con la colaboración de la Asociación de Marketing de Rosario (Argentina). \n  \n> Puedes reservar tu plaza gratuita aquí\n
URL:https://www.asociacionmkt.es/evento/webinar-mktdeporte-futbol-latam/
LOCATION:Madrid\, Madrid\, España
CATEGORIES:CONFERENCIAS
ATTACH;FMTTYPE=image/jpeg:https://www.asociacionmkt.es/wp-content/uploads/2020/02/webinar-evento-latam.jpg
GEO:40.4167754;-3.7037902
END:VEVENT
END:VCALENDAR