BEGIN:VCALENDAR
VERSION:2.0
PRODID:-//MKT. Asociación de Marketing de España - ECPv4.9.14//NONSGML v1.0//EN
CALSCALE:GREGORIAN
METHOD:PUBLISH
X-WR-CALNAME:MKT. Asociación de Marketing de España
X-ORIGINAL-URL:https://www.asociacionmkt.es
X-WR-CALDESC:Eventos para MKT. Asociación de Marketing de España
BEGIN:VTIMEZONE
TZID:Europe/Madrid
BEGIN:DAYLIGHT
TZOFFSETFROM:+0100
TZOFFSETTO:+0200
TZNAME:CEST
DTSTART:20210328T010000
END:DAYLIGHT
BEGIN:STANDARD
TZOFFSETFROM:+0200
TZOFFSETTO:+0100
TZNAME:CET
DTSTART:20211031T010000
END:STANDARD
END:VTIMEZONE
BEGIN:VEVENT
DTSTART;TZID=Europe/Madrid:20210127T170000
DTEND;TZID=Europe/Madrid:20210127T180000
DTSTAMP:20260423T215120
CREATED:20210114T123745Z
LAST-MODIFIED:20210118T083535Z
UID:35947-1611766800-1611770400@www.asociacionmkt.es
SUMMARY:Webinar MKTefa | ¿Un nuevo consumidor?
DESCRIPTION:Con el fin de profundizar más en la actualidad y el futuro del marketing financiero y asegurador\, del 27 de enero al 14 de abril\, Ditrendia\, con nuestra colaboración\, organiza una serie de encuentros digitales de una hora de duración\, bajo el título «Preguntas y respuestas sobre el futuro de la banca y los seguros» en los que se tratarán diversas temáticas relacionadas y crearemos debates junto a algunos de los autores del libro\, «El futuro de la banca\, los seguros y los clientes tras la crisis del 2020». \nPROGRAMA \n\nFernando Rivero\, CEO en Ditrendia\nJaime Valverde\, director corporativo de Redes Sociales en Mapfre\nMaureen Higgins\, Marketing de Banco Ficensa Honduras\nLuciano Pazcel\, director de Marketing en San Cristóbal Seguros Argentina\n\n\n> Ya puedes registrarte en este enlace\n  \nPróximos eventos del mismo ciclo:\n  \n10 de febrero\, a las 17:00 – ¿Una nueva experiencia de cliente?\n\nPróximamente daremos a conocer todos los detalles de este webinar\n\n24 de febrero\, a las 17:00 – ¿Un nuevo management?\n\nPróximamente daremos a conocer todos los detalles de este webinar\n\n10 de marzo\, a las 17:00 – El futuro de la venta\n\nPróximamente daremos a conocer todos los detalles de este webinar\n\n24 de marzo\, a las 17:00 – El futuro de la banca\n\nPróximamente daremos a conocer todos los detalles de este webinar\n\n14 de abril\, a las 17:00 – El futuro de los seguros\n\nPróximamente daremos a conocer todos los detalles de este webinar\n\n  \n
URL:https://www.asociacionmkt.es/evento/webinar-mktefa-ditrendia-un-nuevo-consumidor/
LOCATION:online\, Madrid\, Madrid\, España
CATEGORIES:ENCUENTROS
ATTACH;FMTTYPE=image/jpeg:https://www.asociacionmkt.es/wp-content/uploads/2021/01/27E_Web-825x353px.jpg
GEO:40.4167754;-3.7037902
END:VEVENT
END:VCALENDAR