BEGIN:VCALENDAR
VERSION:2.0
PRODID:-//MKT. Asociación de Marketing de España - ECPv4.9.14//NONSGML v1.0//EN
CALSCALE:GREGORIAN
METHOD:PUBLISH
X-WR-CALNAME:MKT. Asociación de Marketing de España
X-ORIGINAL-URL:https://www.asociacionmkt.es
X-WR-CALDESC:Eventos para MKT. Asociación de Marketing de España
BEGIN:VTIMEZONE
TZID:Europe/Madrid
BEGIN:DAYLIGHT
TZOFFSETFROM:+0100
TZOFFSETTO:+0200
TZNAME:CEST
DTSTART:20210328T010000
END:DAYLIGHT
BEGIN:STANDARD
TZOFFSETFROM:+0200
TZOFFSETTO:+0100
TZNAME:CET
DTSTART:20211031T010000
END:STANDARD
END:VTIMEZONE
BEGIN:VEVENT
DTSTART;TZID=Europe/Madrid:20210324T170000
DTEND;TZID=Europe/Madrid:20210324T180000
DTSTAMP:20260423T213627
CREATED:20210114T130321Z
LAST-MODIFIED:20210316T100859Z
UID:35962-1616605200-1616608800@www.asociacionmkt.es
SUMMARY:Webinar MKTefa | El futuro de la banca
DESCRIPTION:Con el fin de profundizar más en la actualidad y el futuro del marketing financiero y asegurador\, del 27 de enero al 14 de abril\, ditrendia\, con nuestra colaboración\, organiza una serie de encuentros digitales de una hora de duración\, bajo el título «Preguntas y respuestas sobre el futuro de la banca y los seguros» en los que se tratarán diversas temáticas relacionadas y crearemos debates junto a algunos de los autores del libro\, «El futuro de la banca\, los seguros y los clientes tras la crisis del 2020». \nEn el quinto encuentro online de este ciclo analizaremos el futuro de la banca tras la pandemia y en un entorno marcado por la COVID-19. Contaremos con: \n\n\nJavier Amo\, director general en Iberia Cards \n\n\nFernando Moroy\, presidente del Chapter de Madrid de la Red de Business Angels Keiretsu de San Francisco \n\n\nModerador: Fernando Rivero\, CEO en ditrendia \n\n\n  \n> Ya puedes registrarte a través de este enlace\nPróximos eventos del mismo ciclo:\n  \n14 de abril\, a las 17:00 – El futuro de los seguros\n\nPróximamente daremos a conocer todos los detalles de este webinar\n\n
URL:https://www.asociacionmkt.es/evento/webinar-mktefa-el-futuro-de-la-banca/
LOCATION:online\, Madrid\, Madrid\, España
CATEGORIES:ENCUENTROS
ATTACH;FMTTYPE=image/jpeg:https://www.asociacionmkt.es/wp-content/uploads/2021/03/Futuro-de-la-banca-web.jpg
GEO:40.4167754;-3.7037902
END:VEVENT
END:VCALENDAR