BEGIN:VCALENDAR
VERSION:2.0
PRODID:-//MKT. Asociación de Marketing de España - ECPv4.9.14//NONSGML v1.0//EN
CALSCALE:GREGORIAN
METHOD:PUBLISH
X-WR-CALNAME:MKT. Asociación de Marketing de España
X-ORIGINAL-URL:https://www.asociacionmkt.es
X-WR-CALDESC:Eventos para MKT. Asociación de Marketing de España
BEGIN:VTIMEZONE
TZID:Europe/Madrid
BEGIN:DAYLIGHT
TZOFFSETFROM:+0100
TZOFFSETTO:+0200
TZNAME:CEST
DTSTART:20200329T010000
END:DAYLIGHT
BEGIN:STANDARD
TZOFFSETFROM:+0200
TZOFFSETTO:+0100
TZNAME:CET
DTSTART:20201025T010000
END:STANDARD
END:VTIMEZONE
BEGIN:VEVENT
DTSTART;TZID=Europe/Madrid:20200721T093000
DTEND;TZID=Europe/Madrid:20200721T110000
DTSTAMP:20260424T032222
CREATED:20200706T123407Z
LAST-MODIFIED:20200715T120353Z
UID:33855-1595323800-1595329200@www.asociacionmkt.es
SUMMARY:Webinar | La nueva movilidad
DESCRIPTION:Durante estos meses de estado de alarma\, y ahora de desescalada\, la movilidad ha sido uno de los aspectos que más se han visto afectados en esta crisis de la COVID-19\, y sobre el que debemos hacer una reflexión respecto a los cambios que esta situación ha generado y cómo aprovecharlos para acelerar un proceso que se veía largo y difícil hacia una movilidad más limpia\, que beneficie al ciudadano y al planeta. \nPara ello\, desde el Observatorio MKT de la Movilidad queremos invitarte a participar en una nueva jornada online en la que\, desde el punto de vista del ciudadano\, del consumidor en definitiva\, debatiremos sobre la «nueva movilidad». \n  \nAGENDA \n\n09:30 Entrada de asistentes\n\n\n09:35 Víctor Conde\, director general de MKT\, nos dará la bienvenida e introducirá brevemente la jornada\n\n\n09:40 Renato Del Bino\, como responsable del Observatorio MKT de Movilidad\, informará sobre los objetivos del Observatorio\, los miembros del Comité y nos introducirá a la situación sobre la que tratará la jornada\, nos presentará a los ponentes y conducirá el debate posterior\n\n\n09:50 Miguel Ángel Cintas\, director de Marketing en Atribus\, explicará las principales conclusiones de lo que en las redes sociales se ha hablado sobre movilidad\, recogidas con la herramienta Atribus\n\n\n10:00 Ponencias:\n\n\n\n\n\n«La movilidad adaptada al escenario COVID-19 aplicando la IA» \n\n\n\n\nMar García Ramos\, socia de Automoción y Movilidad Sostenible de Grant Thornton \n\n\n\n\n«La movilidad como servicio a demanda»\n\n\n\n\nLola Ortiz Sánchez\, directora general de Planificación e Infraestructuras de Movilidad del Ayuntamiento de Madrid \n\n\n\n\n«Si tuvieras que elegir\, ¿te quedas con tu móvil o con tu coche?»\n\n\n\n\nRaúl Vázquez\, gerente de Marketing de Europcar \n  \n\n10:35 Preguntas y respuestas\, del moderador\, invitados y asistentes\, que podrán plantearlas a través del chat.\n\n\n11:00\n11:00 Fin de jornada & what’s next con Renato Del Bino y Juan Antonio Muñoz-Gallego\, CEO en Skiller Academy \n\n\n  \n> Puedes registrarte aquí de manera gratuita\n  \n
URL:https://www.asociacionmkt.es/evento/webinar-nueva-movilidad-mkt/
LOCATION:online\, Madrid\, Madrid\, España
CATEGORIES:ENCUENTROS
ATTACH;FMTTYPE=image/jpeg:https://www.asociacionmkt.es/wp-content/uploads/2020/07/Webinar_Movilidad_Web.jpg
GEO:40.4167754;-3.7037902
END:VEVENT
END:VCALENDAR