BEGIN:VCALENDAR
VERSION:2.0
PRODID:-//MKT. Asociación de Marketing de España - ECPv4.9.14//NONSGML v1.0//EN
CALSCALE:GREGORIAN
METHOD:PUBLISH
X-WR-CALNAME:MKT. Asociación de Marketing de España
X-ORIGINAL-URL:https://www.asociacionmkt.es
X-WR-CALDESC:Eventos para MKT. Asociación de Marketing de España
BEGIN:VTIMEZONE
TZID:Europe/Madrid
BEGIN:DAYLIGHT
TZOFFSETFROM:+0100
TZOFFSETTO:+0200
TZNAME:CEST
DTSTART:20200329T010000
END:DAYLIGHT
BEGIN:STANDARD
TZOFFSETFROM:+0200
TZOFFSETTO:+0100
TZNAME:CET
DTSTART:20201025T010000
END:STANDARD
END:VTIMEZONE
BEGIN:VEVENT
DTSTART;TZID=Europe/Madrid:20200519T180000
DTEND;TZID=Europe/Madrid:20200519T190000
DTSTAMP:20260423T223046
CREATED:20200506T145627Z
LAST-MODIFIED:20200507T095942Z
UID:32172-1589911200-1589914800@www.asociacionmkt.es
SUMMARY:WEBINAR | EL PATROCINIO CULTURAL CON YMÁS\, ANTONIO RESINES Y ENDESA
DESCRIPTION:El próximo 19 de mayo realizaremos un webinar sobre patrocinio cultural organizado junto a Ymás y nos acompañará el conocido actor Antonio Resines y Endesa. \nEn este webinar conoceremos de la mano de Coté Soler\, CEO de Ymás\, las relaciones que se crean entre la marca y la cultura a través del patrocinio cultural\, profundizando en los beneficios recíprocos que aporta. Ahora\, más que nunca\, tenemos una oportunidad para apoyar al sector cultural que tan afectado se ha visto en estas últimas semanas a causa de la crisis del Covid-19. \nComo caso de éxito\, María Lacasa\, responsable de Estrategia y Activación de Marca en Endesa\, presentará La energía de la cultura\, un proyecto para fomentar manifestaciones culturales que pueden ser menos accesibles\, como la ópera\, el teatro o la danza\, y acercarlas a nuevos públicos. \nY contaremos con la presencia de Antonio Resines\, quien nos hablará de qué puede aportar el mundo de la cultura a la empresa\, y las empresas al mundo de la cultura\, y cómo\, después del Covid-19\, estas vías de colaboración pueden trabajar de manera conjunta. \n  \n> Puedes inscribirte de manera gratuita en este enlace\n  \n
URL:https://www.asociacionmkt.es/evento/webinar-patrocinio-cultural-ymas/
LOCATION:Online vía Streaming
CATEGORIES:ENCUENTROS
ATTACH;FMTTYPE=image/jpeg:https://www.asociacionmkt.es/wp-content/uploads/2020/05/PC_Web-825x353px.jpg
END:VEVENT
END:VCALENDAR