BEGIN:VCALENDAR
VERSION:2.0
PRODID:-//MKT. Asociación de Marketing de España - ECPv4.9.14//NONSGML v1.0//EN
CALSCALE:GREGORIAN
METHOD:PUBLISH
X-WR-CALNAME:MKT. Asociación de Marketing de España
X-ORIGINAL-URL:https://www.asociacionmkt.es
X-WR-CALDESC:Eventos para MKT. Asociación de Marketing de España
BEGIN:VTIMEZONE
TZID:Europe/Madrid
BEGIN:DAYLIGHT
TZOFFSETFROM:+0100
TZOFFSETTO:+0200
TZNAME:CEST
DTSTART:20210328T010000
END:DAYLIGHT
BEGIN:STANDARD
TZOFFSETFROM:+0200
TZOFFSETTO:+0100
TZNAME:CET
DTSTART:20211031T010000
END:STANDARD
END:VTIMEZONE
BEGIN:VEVENT
DTSTART;TZID=Europe/Madrid:20210630T130000
DTEND;TZID=Europe/Madrid:20210630T140000
DTSTAMP:20260423T213714
CREATED:20210604T080734Z
LAST-MODIFIED:20210624T095559Z
UID:38913-1625058000-1625061600@www.asociacionmkt.es
SUMMARY:Webinar | Retos y tendencias del contenido audiovisual deportivo
DESCRIPTION:El próximo 30 de junio celebraremos un nuevo webinar desde el Comité de Marketing Deportivo en el que analizaremos los retos y tendencias de la producción a la distribución de contenido audiovisual de carácter deportivo. \n¿Cuál es el tipo de contenido más relevante para la audiencia? ¿Cómo evoluciona la producción del contenido? ¿Cómo de relevante es el proceso de «democratización» del acceso a contenido audiovisual deportivo? Estos y otros temas los analizaremos en este webinar. \n\nAgenda\n\n\n \n \n\n\n \n13:00 | Bienvenida  \n\n\n \n \n\n\n \n13:05 | Introducción  \n\n\n \n \n\n\n \n\nCarlos Cantó\, CEO de SPSG Consulting\, vocal de MKT y responsable del Comité de Marketing Deportivo\n\n\n\n \n \n\n\n \n13:08 | 13:40 Cómo afrontar la situación actual  \n\n\n \n \n\n\n \n\nQuim Domenech\, Head of Programming en DAZN España\n\n\n\n \n\nJosé Luís Hidalgo\, director de Operaciones de Real Federación Española de Natación\n\n\n\n \n\nAlfredo Bermejo\, Digital Strategy Director en LaLiga\n\n\n\n \n\nAntonio Rodríguez del Corral\, CEO de Cinfo\n\n\n\n \n\nM.ª José Santiago\, responsable de la unidad de negocio de OTT de Mediapro\n\n\n\n \n\nModerador: Carlos Cantó\, CEO de SPSG Consulting y vocal en la Asociación Marketing España \n\n\n\n \n \n\n\n \n13:40 | Debate   \n\n\n \n \n\n\n \n13:55 | Preguntas de la audiencia  \n\n\n \n \n\n\n \n14:00 | Conclusión y clausura \n  \n \n>Ya puedes registrarte aquí \n  \n¡Te esperamos! \n
URL:https://www.asociacionmkt.es/evento/webinar-retos-y-tendencias-del-contenido-audiovisual-deportivo/
LOCATION:online\, Madrid\, Madrid\, España
CATEGORIES:ENCUENTROS
ATTACH;FMTTYPE=image/png:https://www.asociacionmkt.es/wp-content/uploads/2021/06/CINFO_web-825x353px_Mesa-de-trabajo-1.png
GEO:40.4167754;-3.7037902
END:VEVENT
END:VCALENDAR