BEGIN:VCALENDAR
VERSION:2.0
PRODID:-//MKT. Asociación de Marketing de España - ECPv4.9.14//NONSGML v1.0//EN
CALSCALE:GREGORIAN
METHOD:PUBLISH
X-WR-CALNAME:MKT. Asociación de Marketing de España
X-ORIGINAL-URL:https://www.asociacionmkt.es
X-WR-CALDESC:Eventos para MKT. Asociación de Marketing de España
BEGIN:VTIMEZONE
TZID:Europe/Madrid
BEGIN:DAYLIGHT
TZOFFSETFROM:+0100
TZOFFSETTO:+0200
TZNAME:CEST
DTSTART:20200329T010000
END:DAYLIGHT
BEGIN:STANDARD
TZOFFSETFROM:+0200
TZOFFSETTO:+0100
TZNAME:CET
DTSTART:20201025T010000
END:STANDARD
END:VTIMEZONE
BEGIN:VEVENT
DTSTART;TZID=Europe/Madrid:20200622T160000
DTEND;TZID=Europe/Madrid:20200622T170000
DTSTAMP:20260425T015225
CREATED:20200520T105202Z
LAST-MODIFIED:20200526T111131Z
UID:32739-1592841600-1592845200@www.asociacionmkt.es
SUMMARY:WEBINAR | Silver Surfer: el talento profesional sénior
DESCRIPTION:El próximo 22 de junio a las 16:00\, Raquel Roca charlará con todos nosotros sobre la longevidad profesional\, la figura de los Silver Surfers —aquellos profesionales séniors que quieren seguir aportando profesionalmente—\, cómo se enfrentan las empresas a este nuevo talento silver —que hasta ahora no se había valorado como se merecía— y del proceso de cambio en el que está inmerso nuestro modelo de trabajo. \nRaquel Roca\, periodista\, consultora y escritora\, charlará con nosotros sobre la longevidad profesional\, la figura de los Silver Surfers\, cómo enfrentan las empresas este talento silver y el proceso de cambio en el que está inmerso nuestro modelo de trabajo. \n> Inscríbete de manera gratuita aquí\n
URL:https://www.asociacionmkt.es/evento/webinar-sobre-silver-surfer/
LOCATION:Webinar online
CATEGORIES:ENCUENTROS
ATTACH;FMTTYPE=image/png:https://www.asociacionmkt.es/wp-content/uploads/2020/05/Webinar_Silversurfers_web.png
END:VEVENT
END:VCALENDAR