BEGIN:VCALENDAR
VERSION:2.0
PRODID:-//MKT. Asociación de Marketing de España - ECPv4.9.14//NONSGML v1.0//EN
CALSCALE:GREGORIAN
METHOD:PUBLISH
X-WR-CALNAME:MKT. Asociación de Marketing de España
X-ORIGINAL-URL:https://www.asociacionmkt.es
X-WR-CALDESC:Eventos para MKT. Asociación de Marketing de España
BEGIN:VTIMEZONE
TZID:Europe/Madrid
BEGIN:DAYLIGHT
TZOFFSETFROM:+0100
TZOFFSETTO:+0200
TZNAME:CEST
DTSTART:20170326T010000
END:DAYLIGHT
BEGIN:STANDARD
TZOFFSETFROM:+0200
TZOFFSETTO:+0100
TZNAME:CET
DTSTART:20171029T010000
END:STANDARD
END:VTIMEZONE
BEGIN:VEVENT
DTSTART;TZID=Europe/Madrid:20171003T080000
DTEND;TZID=Europe/Madrid:20171004T170000
DTSTAMP:20260423T231843
CREATED:20170215T082901Z
LAST-MODIFIED:20170215T082901Z
UID:12951-1507017600-1507136400@www.asociacionmkt.es
SUMMARY:World Business Forum Madrid
DESCRIPTION:Organizado por WOBI\, cada año\, en distintas ciudades de Amércia\, Europa y Asia\, World Business Forum es un espacio donde las experiencias y conocimientos convergen para ofrecer una experiencia única\, diseñada para preparar a nuestra comunidad a enfrentarse a sus propios retos profesionales en un evento de dos días que reúne a miles de mentes inquietas que comparten la misma pasión por los negocios.\nEl 3 y 4 de octubre\, WOBI llega a Madrid bajo el lema “Humanification: Pongamos el foco en las personas. Ahora y siempre”\, con una firme creencia en las personas y en la importancia de potenciar al máximo su diversidad y creatividad para el éxito de la empresa. En el evento participarán ponentes de la talla de Richard Branson\, Jonah Berger\, Rachel Botsman\, Stew Friedman\, Tamara Erickson\, Mauro Porcini\, Mario Alonso Puig\, Chris McChesney y Jesús Cochegrus. \nEntradas:\n¡Inscríbete antes del 29 de septiembre y disfrutarás de grandes descuentos en el precio de tu entrada!\nPrecios NO SOCIOS:\n\nPrecios SOCIOS MKT:\nPor ser socio de la Asociación de Marketing de España\, tu entrada para WOBI costará todavía menos\, ahorrando hasta un 10% en el pase individual.\nSi eres socio\, solicita aquí tu código de descuento\n \nMás información e inscripciones aquí\n  \n
URL:https://www.asociacionmkt.es/evento/world-business-forum-madrid-3/
LOCATION:Palacio Municipal de Congresos Campo de las Naciones\, Avenida Capital de España Madrid 7\, Madrid\, 28042\, España
CATEGORIES:CONGRESOS
ATTACH;FMTTYPE=image/jpeg:https://www.asociacionmkt.es/wp-content/uploads/2017/02/wobi-2.jpg
GEO:40.4620901;-3.6168051
X-APPLE-STRUCTURED-LOCATION;VALUE=URI;X-ADDRESS=Palacio Municipal de Congresos Campo de las Naciones Avenida Capital de España Madrid 7 Madrid 28042 España;X-APPLE-RADIUS=500;X-TITLE=Avenida Capital de España Madrid 7:geo:-3.6168051,40.4620901
END:VEVENT
END:VCALENDAR