BEGIN:VCALENDAR
VERSION:2.0
PRODID:-//MKT. Asociación de Marketing de España - ECPv4.9.14//NONSGML v1.0//EN
CALSCALE:GREGORIAN
METHOD:PUBLISH
X-WR-CALNAME:MKT. Asociación de Marketing de España
X-ORIGINAL-URL:https://www.asociacionmkt.es
X-WR-CALDESC:Eventos para MKT. Asociación de Marketing de España
BEGIN:VTIMEZONE
TZID:Europe/Madrid
BEGIN:DAYLIGHT
TZOFFSETFROM:+0100
TZOFFSETTO:+0200
TZNAME:CEST
DTSTART:20160327T010000
END:DAYLIGHT
BEGIN:STANDARD
TZOFFSETFROM:+0200
TZOFFSETTO:+0100
TZNAME:CET
DTSTART:20161030T010000
END:STANDARD
END:VTIMEZONE
BEGIN:VEVENT
DTSTART;TZID=Europe/Madrid:20161018T080000
DTEND;TZID=Europe/Madrid:20161019T170000
DTSTAMP:20260423T231828
CREATED:20160602T155905Z
LAST-MODIFIED:20160602T155905Z
UID:10521-1476777600-1476896400@www.asociacionmkt.es
SUMMARY:WORLD BUSINESS FORUM 2016
DESCRIPTION:World Business Forum\, organizado por WOBI\, aterriza en el Teatro Real de Madrid el 18 y 19 de octubre de 2016. Este foro internacional\, celebrado cada año en distintas ciudades de América\, Europa y Asia\, es un espacio donde las experiencias y conocimientos convergen en un evento único diseñado para preparar a nuestra comunidad a enfrentar sus  propios retos profesionales. Durante dos días se reunirán a miles de mentes inquietas que comparten una misma pasión por los negocios.\nAccede al programa completo pinchando sobre la imagen:\n\nLas entradas están a la venta con precios especiales para socios de MKT hasta el 7 de octubre.\n\n \nSi eres socio\, solicita aquí tu código de descuento\n  \nOrganiza:\n \n
URL:https://www.asociacionmkt.es/evento/world-business-forum/
LOCATION:Teatro Real de Madrid\, Plaza Isabel II\, s/n\, Madrid\, Madrid\, 28013\, España
CATEGORIES:CONGRESOS
ATTACH;FMTTYPE=image/jpeg:https://www.asociacionmkt.es/wp-content/uploads/2016/06/wobi-1.jpg
GEO:40.4181357;-3.7091026
X-APPLE-STRUCTURED-LOCATION;VALUE=URI;X-ADDRESS=Teatro Real de Madrid Plaza Isabel II s/n Madrid Madrid 28013 España;X-APPLE-RADIUS=500;X-TITLE=Plaza Isabel II\, s/n:geo:-3.7091026,40.4181357
END:VEVENT
END:VCALENDAR