BEGIN:VCALENDAR
VERSION:2.0
PRODID:-//MKT. Asociación de Marketing de España - ECPv4.9.14//NONSGML v1.0//EN
CALSCALE:GREGORIAN
METHOD:PUBLISH
X-WR-CALNAME:MKT. Asociación de Marketing de España
X-ORIGINAL-URL:https://www.asociacionmkt.es
X-WR-CALDESC:Eventos para MKT. Asociación de Marketing de España
BEGIN:VTIMEZONE
TZID:Europe/Madrid
BEGIN:DAYLIGHT
TZOFFSETFROM:+0100
TZOFFSETTO:+0200
TZNAME:CEST
DTSTART:20190331T010000
END:DAYLIGHT
BEGIN:STANDARD
TZOFFSETFROM:+0200
TZOFFSETTO:+0100
TZNAME:CET
DTSTART:20191027T010000
END:STANDARD
END:VTIMEZONE
BEGIN:VEVENT
DTSTART;TZID=Europe/Madrid:20190328T180000
DTEND;TZID=Europe/Madrid:20190328T200000
DTSTAMP:20260423T181432
CREATED:20190318T112611Z
LAST-MODIFIED:20190318T112611Z
UID:21231-1553796000-1553803200@www.asociacionmkt.es
SUMMARY:PRESENTACIÓN DE LA LISTA LARGA DE LOS #PREMIOSMKT
DESCRIPTION:Los Premios Nacionales de Marketing\, impulsados por la Asociación de Marketing de España\, reconocen el trabajo de las empresas\, instituciones y profesionales que destacan por su buen marketing y por su contribución a la difusión e implantación del marketing en las empresas e instituciones.\nEl próximo día 28 de marzo celebraremos\, gracias a la colaboración de Caixa Forum y Foro de Marketing de Sevilla\, el acto de presentación de la Lista Larga de las candidaturas de la XI edición de los Premios Nacionales de Marketing en el Caixa Forum de Sevilla.\nEsta lista\, se confecciona con todas las candidaturas recibidas en tiempo y forma y\, por tanto\, constituye el listado sobre el que nuestro jurado deberá pronunciarse\, en primera instancia\, para dejar una Lista Corta de la que\, posteriormente\, se extraerán los ganadores finales.\nNos encantaría que encontrases un hueco en tu agenda y compartir así un vino y una interesante noticia.\n¡Nos vemos muy pronto en el Caixa Forum de Sevilla! \n> Para acudir a la presentación es necesario registrarse de manera gratuita aquí.\n \n
URL:https://www.asociacionmkt.es/evento/presentacion-de-la-lista-larga-de-los-premiosmkt/
LOCATION:CaixaForum Sevilla\, Calle López Pintado s/n\, Sevilla\, Sevilla\, España
CATEGORIES:PRESENTACIONES (estudios, informes, libros...)
ATTACH;FMTTYPE=image/jpeg:https://www.asociacionmkt.es/wp-content/uploads/2019/03/770x230-2.jpg
END:VEVENT
END:VCALENDAR