BEGIN:VCALENDAR
VERSION:2.0
PRODID:-//MKT. Asociación de Marketing de España - ECPv4.9.14//NONSGML v1.0//EN
CALSCALE:GREGORIAN
METHOD:PUBLISH
X-WR-CALNAME:MKT. Asociación de Marketing de España
X-ORIGINAL-URL:https://www.asociacionmkt.es
X-WR-CALDESC:Eventos para MKT. Asociación de Marketing de España
BEGIN:VTIMEZONE
TZID:Europe/Madrid
BEGIN:DAYLIGHT
TZOFFSETFROM:+0100
TZOFFSETTO:+0200
TZNAME:CEST
DTSTART:20210328T010000
END:DAYLIGHT
BEGIN:STANDARD
TZOFFSETFROM:+0200
TZOFFSETTO:+0100
TZNAME:CET
DTSTART:20211031T010000
END:STANDARD
END:VTIMEZONE
BEGIN:VEVENT
DTSTART;TZID=Europe/Madrid:20211201T173000
DTEND;TZID=Europe/Madrid:20211201T183000
DTSTAMP:20260422T195438
CREATED:20211130T085228Z
LAST-MODIFIED:20211130T103258Z
UID:41262-1638379800-1638383400@www.asociacionmkt.es
SUMMARY:Streaming | Presentación XIV edición de los Premios Nacionales de Marketing
DESCRIPTION:El próximo 1 de diciembre a las 17:30 realizaremos la presentación de la XIV edición de los Premios Nacionales de Marketing que\, como la mayoría de vosotros sabéis\, reconocen las buenas prácticas de las empresas\, instituciones y profesionales del sector y contribuyen a la difusión e implantación del buen marketing. Así mismo\, este evento constituirá la apertura del periodo de presentación de candidaturas en las distintas categorías\, tanto de manera directa como indirecta. \n  \n\nEste encuentro será retransmitido por streaming y daremos a conocer todos los detalles y novedades de esta edición\, desde las instalaciones de UZalacaín La Finca. \n  \n\n\n\nEsperamos que nos acompañes y te puedas unir a esta celebración que será el inicio de una andadura que culminará en la gala de entrega de los Premios Nacionales de Marketing\, en junio de este año. \n\n  \nPuedes registrarte de manera gratuita en este enlace\n¡Te esperamos! 
URL:https://www.asociacionmkt.es/evento/streaming-presentacion-xiv-edicion-de-los-premios-nacionales-de-marketing/
LOCATION:Madrid\, Madrid\, España
CATEGORIES:PREMIOS
ATTACH;FMTTYPE=image/jpeg:https://www.asociacionmkt.es/wp-content/uploads/2021/11/Premios-web-MKT.jpg
GEO:40.4167754;-3.7037902
END:VEVENT
END:VCALENDAR