BEGIN:VCALENDAR
VERSION:2.0
PRODID:-//MKT. Asociación de Marketing de España - ECPv4.9.14//NONSGML v1.0//EN
CALSCALE:GREGORIAN
METHOD:PUBLISH
X-WR-CALNAME:MKT. Asociación de Marketing de España
X-ORIGINAL-URL:https://www.asociacionmkt.es
X-WR-CALDESC:Eventos para MKT. Asociación de Marketing de España
BEGIN:VTIMEZONE
TZID:Europe/Madrid
BEGIN:DAYLIGHT
TZOFFSETFROM:+0100
TZOFFSETTO:+0200
TZNAME:CEST
DTSTART:20210328T010000
END:DAYLIGHT
BEGIN:STANDARD
TZOFFSETFROM:+0200
TZOFFSETTO:+0100
TZNAME:CET
DTSTART:20211031T010000
END:STANDARD
END:VTIMEZONE
BEGIN:VEVENT
DTSTART;TZID=Europe/Madrid:20211221T093000
DTEND;TZID=Europe/Madrid:20211221T103000
DTSTAMP:20260424T025613
CREATED:20211029T081856Z
LAST-MODIFIED:20211117T153031Z
UID:40826-1640079000-1640082600@www.asociacionmkt.es
SUMMARY:Presentación híbrida | Estudio IEDM
DESCRIPTION:Presentamos el «Índice de Expectativas de los Directores de Marketing» (IEDM)\, esta vez de cara al primer semestre del año 2022. El encuentro tendrá lugar el próximo 21 de diciembre de 9:30 a 11:00 en un formato híbrido\, de manera presencial desde la sede de EAE Business School (Calle de Joaquín Costa\, 41\, 28002 Madrid) y retransmitido por streaming. El acto contará con la participación como presentadores de Víctor Conde y Javier Gómez\, coordinadores del proyecto. \nDesde la Asociación de Marketing de España en colaboración con la empresa de investigación de mercados GfK\, llevamos a cabo\, desde 2006\, la elaboración del IEDM. Un estudio en el que\, en base a una muestra representativa de empresas de diferentes sectores\, se mide el grado de expectativas de sus directores de marketing respecto a la evolución de sus mercados\, obteniendo por tanto un indicador valioso y fiable del comportamiento de la economía global. \n  \n> Puedes registrarte a través de este enlace\n  \nCompártelo en tus RRSS #IEDM: \n  \n
URL:https://www.asociacionmkt.es/evento/presentacion-estudio-iedm/
LOCATION:EAE Business School\, C. de Joaquín Costa\, 41\, Madrid\, 28002\, España
CATEGORIES:PRESENTACIONES (estudios, informes, libros...)
ATTACH;FMTTYPE=image/jpeg:https://www.asociacionmkt.es/wp-content/uploads/2021/11/IEDM_web-825x353px.jpg
GEO:40.4438133;-3.6837756
X-APPLE-STRUCTURED-LOCATION;VALUE=URI;X-ADDRESS=EAE Business School C. de Joaquín Costa 41 Madrid 28002 España;X-APPLE-RADIUS=500;X-TITLE=C. de Joaquín Costa\, 41:geo:-3.6837756,40.4438133
END:VEVENT
END:VCALENDAR